BEGIN:VCALENDAR
VERSION:2.0
PRODID:-// - ECPv6.15.20//NONSGML v1.0//EN
CALSCALE:GREGORIAN
METHOD:PUBLISH
X-ORIGINAL-URL:https://www.bangorrotary.net
X-WR-CALDESC:Events for 
REFRESH-INTERVAL;VALUE=DURATION:PT1H
X-Robots-Tag:noindex
X-PUBLISHED-TTL:PT1H
BEGIN:VTIMEZONE
TZID:Europe/London
BEGIN:DAYLIGHT
TZOFFSETFROM:+0000
TZOFFSETTO:+0100
TZNAME:BST
DTSTART:20140330T010000
END:DAYLIGHT
BEGIN:STANDARD
TZOFFSETFROM:+0100
TZOFFSETTO:+0000
TZNAME:GMT
DTSTART:20141026T010000
END:STANDARD
BEGIN:DAYLIGHT
TZOFFSETFROM:+0000
TZOFFSETTO:+0100
TZNAME:BST
DTSTART:20150329T010000
END:DAYLIGHT
BEGIN:STANDARD
TZOFFSETFROM:+0100
TZOFFSETTO:+0000
TZNAME:GMT
DTSTART:20151025T010000
END:STANDARD
BEGIN:DAYLIGHT
TZOFFSETFROM:+0000
TZOFFSETTO:+0100
TZNAME:BST
DTSTART:20160327T010000
END:DAYLIGHT
BEGIN:STANDARD
TZOFFSETFROM:+0100
TZOFFSETTO:+0000
TZNAME:GMT
DTSTART:20161030T010000
END:STANDARD
END:VTIMEZONE
BEGIN:VEVENT
DTSTART;TZID=Europe/London:20150527T180000
DTEND;TZID=Europe/London:20150527T190000
DTSTAMP:20260421T233039
CREATED:20150518T124149Z
LAST-MODIFIED:20150521T063903Z
UID:1721-1432749600-1432753200@www.bangorrotary.net
SUMMARY:Rotary Club of Bangor Assembly
DESCRIPTION:Rotary Club of Bangor Assembly \nPlease make a special effort to attend Assembly to support your incoming President and Council and discover what plans are already in place for the coming year. \nTea: Roast Beef and Pepper Sauce
URL:https://www.bangorrotary.net/event/rotary-club-of-bangor-assembly/
LOCATION:Bangor Golf Club\, Broadway\, BANGOR\, Northern Ireland\, BT20 4RH\, United Kingdom
ATTACH;FMTTYPE=image/jpeg:https://www.bangorrotary.net/wp-content/uploads/2015/05/rotary-LGO-300X250.jpg
END:VEVENT
BEGIN:VEVENT
DTSTART;TZID=Europe/London:20150520T130000
DTEND;TZID=Europe/London:20150520T140000
DTSTAMP:20260421T233039
CREATED:20150518T123617Z
LAST-MODIFIED:20150518T132031Z
UID:1719-1432126800-1432130400@www.bangorrotary.net
SUMMARY:Linda Erwin\, The Miracle that is Turas
DESCRIPTION:Speaker: Linda Erwin\, The Miracle that is Turas (click here for information) \nLunch: Baked Irish ham and White Wine Sauce
URL:https://www.bangorrotary.net/event/linda-erwin-the-miracle-that-is-turas/
LOCATION:Bangor Golf Club\, Broadway\, BANGOR\, Northern Ireland\, BT20 4RH\, United Kingdom
ATTACH;FMTTYPE=image/jpeg:https://www.bangorrotary.net/wp-content/uploads/2015/05/rotary-LGO-300X250.jpg
END:VEVENT
END:VCALENDAR