BEGIN:VCALENDAR
VERSION:2.0
PRODID:-// - ECPv6.15.20//NONSGML v1.0//EN
CALSCALE:GREGORIAN
METHOD:PUBLISH
X-ORIGINAL-URL:https://www.bangorrotary.net
X-WR-CALDESC:Events for 
REFRESH-INTERVAL;VALUE=DURATION:PT1H
X-Robots-Tag:noindex
X-PUBLISHED-TTL:PT1H
BEGIN:VTIMEZONE
TZID:Europe/London
BEGIN:DAYLIGHT
TZOFFSETFROM:+0000
TZOFFSETTO:+0100
TZNAME:BST
DTSTART:20140330T010000
END:DAYLIGHT
BEGIN:STANDARD
TZOFFSETFROM:+0100
TZOFFSETTO:+0000
TZNAME:GMT
DTSTART:20141026T010000
END:STANDARD
BEGIN:DAYLIGHT
TZOFFSETFROM:+0000
TZOFFSETTO:+0100
TZNAME:BST
DTSTART:20150329T010000
END:DAYLIGHT
BEGIN:STANDARD
TZOFFSETFROM:+0100
TZOFFSETTO:+0000
TZNAME:GMT
DTSTART:20151025T010000
END:STANDARD
BEGIN:DAYLIGHT
TZOFFSETFROM:+0000
TZOFFSETTO:+0100
TZNAME:BST
DTSTART:20160327T010000
END:DAYLIGHT
BEGIN:STANDARD
TZOFFSETFROM:+0100
TZOFFSETTO:+0000
TZNAME:GMT
DTSTART:20161030T010000
END:STANDARD
END:VTIMEZONE
BEGIN:VEVENT
DTSTART;VALUE=DATE:20151230
DTEND;VALUE=DATE:20151231
DTSTAMP:20260421T213545
CREATED:20151103T103630Z
LAST-MODIFIED:20151105T111430Z
UID:1887-1451433600-1451519999@www.bangorrotary.net
SUMMARY:Happy New Year - No Rotary Meeting Today
DESCRIPTION:No Rotary Meeting Today
URL:https://www.bangorrotary.net/event/happy-new-year/
LOCATION:Northern Ireland
END:VEVENT
BEGIN:VEVENT
DTSTART;TZID=Europe/London:20151223T000000
DTEND;TZID=Europe/London:20151223T130000
DTSTAMP:20260421T213545
CREATED:20151103T103603Z
LAST-MODIFIED:20151105T111410Z
UID:1886-1450828800-1450875600@www.bangorrotary.net
SUMMARY:Merry Christmas - No Rotary Meeting today
DESCRIPTION:No Rotary Meeting today
URL:https://www.bangorrotary.net/event/merry-christmas/
LOCATION:Northern Ireland
END:VEVENT
BEGIN:VEVENT
DTSTART;TZID=Europe/London:20151216T010000
DTEND;TZID=Europe/London:20151216T140000
DTSTAMP:20260421T213545
CREATED:20151103T103528Z
LAST-MODIFIED:20151211T173433Z
UID:1885-1450227600-1450274400@www.bangorrotary.net
SUMMARY:Rotary Club Christmas Lunch
DESCRIPTION:Rotary Club Christmas Lunch\nLunch: Rotary Club Christmas Lunch
URL:https://www.bangorrotary.net/event/rotary-club-christmas-lunch/
LOCATION:Bangor Golf Club\, Broadway\, BANGOR\, Northern Ireland\, BT20 4RH\, United Kingdom
END:VEVENT
BEGIN:VEVENT
DTSTART;TZID=Europe/London:20151209T000000
DTEND;TZID=Europe/London:20151209T130000
DTSTAMP:20260421T213545
CREATED:20151103T103440Z
LAST-MODIFIED:20151105T111232Z
UID:1884-1449619200-1449666000@www.bangorrotary.net
SUMMARY:Rotary Meeting: Gordon Millington - Irish Lighthouses
DESCRIPTION:Speaker: Gordon Millington – Irish Lighthouses\nLunch: Grilled Hake with Parsley Sauce
URL:https://www.bangorrotary.net/event/rotary-meeting-19/
LOCATION:Bangor Golf Club\, Broadway\, BANGOR\, Northern Ireland\, BT20 4RH\, United Kingdom
END:VEVENT
BEGIN:VEVENT
DTSTART;TZID=Europe/London:20151207T190000
DTEND;TZID=Europe/London:20151207T230000
DTSTAMP:20260421T213545
CREATED:20151105T111845Z
LAST-MODIFIED:20151125T122005Z
UID:1894-1449514800-1449529200@www.bangorrotary.net
SUMMARY:Bangor Rotary Christmas Dinner - Royal Ulster Yacht Club
DESCRIPTION:This is to be our Christmas Dinner to be held at Royal Ulster Yacht Club.\nDetails to follow
URL:https://www.bangorrotary.net/event/bangor-rotary-christmas-dinner-royal-ulster-yacht-club/
LOCATION:Northern Ireland
END:VEVENT
BEGIN:VEVENT
DTSTART;TZID=Europe/London:20151202T000000
DTEND;TZID=Europe/London:20151202T130000
DTSTAMP:20260421T213545
CREATED:20151103T103356Z
LAST-MODIFIED:20151105T111315Z
UID:1883-1449014400-1449061200@www.bangorrotary.net
SUMMARY:Rotary Meeting - Business Meeting
DESCRIPTION:This is our Extraordinary General Meeting\nLunch: Gammon and Pineapple
URL:https://www.bangorrotary.net/event/rotary-meeting-18/
LOCATION:Bangor Golf Club\, Broadway\, BANGOR\, Northern Ireland\, BT20 4RH\, United Kingdom
END:VEVENT
BEGIN:VEVENT
DTSTART;TZID=Europe/London:20151125T080000
DTEND;TZID=Europe/London:20151125T170000
DTSTAMP:20260421T213545
CREATED:20150923T065736Z
LAST-MODIFIED:20151119T103226Z
UID:1863-1448438400-1448470800@www.bangorrotary.net
SUMMARY:Rotary Meeting - Tomas Fegan -Bangor Chamber of Commerce
DESCRIPTION:Speaker: Tomas Fegan -Bangor Chamber of Commerce\nZone final for the Young Leadership Competition\nTea: Chicken\, Mushroom with Pepper Sauce and Rice
URL:https://www.bangorrotary.net/event/rotary-meeting-16/
LOCATION:Bangor Golf Club\, Broadway\, BANGOR\, Northern Ireland\, BT20 4RH\, United Kingdom
END:VEVENT
BEGIN:VEVENT
DTSTART;TZID=Europe/London:20151118T000000
DTEND;TZID=Europe/London:20151118T130000
DTSTAMP:20260421T213545
CREATED:20151103T103257Z
LAST-MODIFIED:20151105T110931Z
UID:1882-1447804800-1447851600@www.bangorrotary.net
SUMMARY:Rotary Meeting - Young Leader
DESCRIPTION:We announce the winner of the Bangor Rotary Club young Leader of the Year\nLunch: Roast Beef
URL:https://www.bangorrotary.net/event/rotary-meeting-17/
LOCATION:Bangor Golf Club\, Broadway\, BANGOR\, Northern Ireland\, BT20 4RH\, United Kingdom
END:VEVENT
BEGIN:VEVENT
DTSTART;TZID=Europe/London:20151111T120000
DTEND;TZID=Europe/London:20151111T140000
DTSTAMP:20260421T213545
CREATED:20150923T065919Z
LAST-MODIFIED:20151009T063736Z
UID:1822-1447243200-1447250400@www.bangorrotary.net
SUMMARY:Remembrance Day Service
DESCRIPTION:REMEMBRANCE CEREMONY AT SOMME CENTRE\n233 BANGOR ROAD \, NEWTOWNARDS\nWEDNESDAY 11 NOVEMBER 2015 – 12.00pm sharp\n \nTo mark Remembrance week\, a short service of remembrance\, followed by a talk by a visiting speaker Trevor Parkhill\, MBE\, retired Keeper of History at the Ulster Museum \, will be held in The Somme Centre on Wednesday 11 November. \n\nThis is instead of our normal Rotary meeting in Bangor Golf Club\, and family members/friends welcome to attend.  \n\nA light lunch of soup and sandwiches with tea/coffee will follow.\nTotal cost of £7 per person will be collected on the day.\nTwo representatives from each of the seven local Probus Clubs have been invited\, the cost of which will be borne by the club. \nProgramme as follows –\n  \n 12.00pm                    Arrive at Somme Centre \n12.15pm                    Service of Remembrance\n12.45pm                    Talk by Trevor Parkhill\, Retired Keeper of History \, Ulster Museum\n1.15pm to 2.00pm    Lunch in Somme Restaurant
URL:https://www.bangorrotary.net/event/remembrance-day-service-2/
LOCATION:Northern Ireland
END:VEVENT
BEGIN:VEVENT
DTSTART;TZID=Europe/London:20151104T130000
DTEND;TZID=Europe/London:20151104T140000
DTSTAMP:20260421T213545
CREATED:20150923T065436Z
LAST-MODIFIED:20151103T103058Z
UID:1860-1446642000-1446645600@www.bangorrotary.net
SUMMARY:Rotary Meeting
DESCRIPTION:Today is a Business Meeting\nLunch:  Pork Chops and Pepper Sauce
URL:https://www.bangorrotary.net/event/rotary-meeting-11/
LOCATION:Bangor Golf Club\, Broadway\, BANGOR\, Northern Ireland\, BT20 4RH\, United Kingdom
END:VEVENT
BEGIN:VEVENT
DTSTART;TZID=Europe/London:20151028T180000
DTEND;TZID=Europe/London:20151028T190000
DTSTAMP:20260421T213545
CREATED:20150826T122616Z
LAST-MODIFIED:20150923T065313Z
UID:1842-1446055200-1446058800@www.bangorrotary.net
SUMMARY:Rotary Meeting
DESCRIPTION:Speaker: Julie Rutledge\nTea: Turkey & Ham
URL:https://www.bangorrotary.net/event/rotary-meeting-15/
LOCATION:Bangor Golf Club\, Broadway\, BANGOR\, Northern Ireland\, BT20 4RH\, United Kingdom
END:VEVENT
BEGIN:VEVENT
DTSTART;TZID=Europe/London:20151019T073000
DTEND;TZID=Europe/London:20151019T090000
DTSTAMP:20260421T213545
CREATED:20150826T122424Z
LAST-MODIFIED:20150923T065159Z
UID:1839-1445239800-1445245200@www.bangorrotary.net
SUMMARY:Rotary Club of Bangor Charity Breakfast
DESCRIPTION:Clandeboye Lodge Hotel\nMonday 19 October 2015 -0730\nCost £15\nSpeaker to be announced later\nPlease reserve places with Bill Aiken\n\nThis year’s Charity Breakfast is being held on Monday 19 October – there is no meeting on the 21st.\nMore details to follow.
URL:https://www.bangorrotary.net/event/rotary-club-of-bangor-charity-breakfast/
LOCATION:Northern Ireland
END:VEVENT
BEGIN:VEVENT
DTSTART;TZID=Europe/London:20151014T080000
DTEND;TZID=Europe/London:20151014T170000
DTSTAMP:20260421T213545
CREATED:20150826T122524Z
LAST-MODIFIED:20150826T122524Z
UID:1841-1444809600-1444842000@www.bangorrotary.net
SUMMARY:Rotary Meeting
DESCRIPTION:Speaker: TBA\nTea: Chicken Goujons
URL:https://www.bangorrotary.net/event/rotary-meeting-14/
LOCATION:Bangor Golf Club\, Broadway\, BANGOR\, Northern Ireland\, BT20 4RH\, United Kingdom
END:VEVENT
BEGIN:VEVENT
DTSTART;TZID=Europe/London:20151007T010000
DTEND;TZID=Europe/London:20151007T140000
DTSTAMP:20260421T213545
CREATED:20150826T122241Z
LAST-MODIFIED:20150923T065115Z
UID:1838-1444179600-1444226400@www.bangorrotary.net
SUMMARY:Rotary Meeting
DESCRIPTION:Today is a Business Meeting\nTea: Pork Loin Chops with Peppercorn Sauce
URL:https://www.bangorrotary.net/event/rotary-meeting-13/
LOCATION:Bangor Golf Club\, Broadway\, BANGOR\, Northern Ireland\, BT20 4RH\, United Kingdom
END:VEVENT
BEGIN:VEVENT
DTSTART;TZID=Europe/London:20150930T180000
DTEND;TZID=Europe/London:20150930T190000
DTSTAMP:20260421T213545
CREATED:20150820T121327Z
LAST-MODIFIED:20150923T065044Z
UID:1829-1443636000-1443639600@www.bangorrotary.net
SUMMARY:Rotary Meeting
DESCRIPTION:Speaker: PP Stephen Connolly on a recent visit to Uganda with ABANNA.\nTea: Breaded Cod
URL:https://www.bangorrotary.net/event/rotary-meeting-12/
LOCATION:Bangor Golf Club\, Broadway\, BANGOR\, Northern Ireland\, BT20 4RH\, United Kingdom
END:VEVENT
BEGIN:VEVENT
DTSTART;TZID=Europe/London:20150923T130000
DTEND;TZID=Europe/London:20150923T140000
DTSTAMP:20260421T213545
CREATED:20150820T121155Z
LAST-MODIFIED:20150923T064918Z
UID:1827-1443013200-1443016800@www.bangorrotary.net
SUMMARY:Rotary Meeting
DESCRIPTION:Today is a Working Lunch \nLunch: Pork & Leek Sausages wtih Onion Gravy
URL:https://www.bangorrotary.net/event/rotary-meeting-10/
LOCATION:Bangor Golf Club\, Broadway\, BANGOR\, Northern Ireland\, BT20 4RH\, United Kingdom
END:VEVENT
BEGIN:VEVENT
DTSTART;TZID=Europe/London:20150916T130000
DTEND;TZID=Europe/London:20150916T140000
DTSTAMP:20260421T213545
CREATED:20150820T121120Z
LAST-MODIFIED:20150826T122039Z
UID:1826-1442408400-1442412000@www.bangorrotary.net
SUMMARY:Rotary Meeting
DESCRIPTION:Speaker: TBA \nLunch: Roast Beef and Yorkshire Pudding
URL:https://www.bangorrotary.net/event/rotary-meeting-9/
LOCATION:Bangor Golf Club\, Broadway\, BANGOR\, Northern Ireland\, BT20 4RH\, United Kingdom
END:VEVENT
BEGIN:VEVENT
DTSTART;TZID=Europe/London:20150909T130000
DTEND;TZID=Europe/London:20150909T140000
DTSTAMP:20260421T213545
CREATED:20150820T121038Z
LAST-MODIFIED:20150826T122004Z
UID:1825-1441803600-1441807200@www.bangorrotary.net
SUMMARY:Rotary Meeting
DESCRIPTION:Speaker: Business Meeting \nLunch: Chicken Chasseur
URL:https://www.bangorrotary.net/event/rotary-meeting-8/
LOCATION:Bangor Golf Club\, Broadway\, BANGOR\, Northern Ireland\, BT20 4RH\, United Kingdom
END:VEVENT
BEGIN:VEVENT
DTSTART;TZID=Europe/London:20150902T130000
DTEND;TZID=Europe/London:20150902T140000
DTSTAMP:20260421T213545
CREATED:20150820T120340Z
LAST-MODIFIED:20150826T121935Z
UID:1823-1441198800-1441202400@www.bangorrotary.net
SUMMARY:Rotary Meeting - DG Visit
DESCRIPTION:Speaker: District governor Declan Tyner Visiting today – best behaviour please! \nMenu: Gammon with Parsley Sauce \n 
URL:https://www.bangorrotary.net/event/rotary-meeting-7/
LOCATION:Bangor Golf Club\, Broadway\, BANGOR\, Northern Ireland\, BT20 4RH\, United Kingdom
END:VEVENT
BEGIN:VEVENT
DTSTART;TZID=Europe/London:20150826T130000
DTEND;TZID=Europe/London:20150826T140000
DTSTAMP:20260421T213545
CREATED:20150720T085058Z
LAST-MODIFIED:20150720T085058Z
UID:1805-1440594000-1440597600@www.bangorrotary.net
SUMMARY:Rotary Meeting
DESCRIPTION:Our Summer schedule is in place which means \n\nFreeform Meeting (no scheduled speakers)\nLunch is a fresh salad\nDress code is casual\n\nSee you there!
URL:https://www.bangorrotary.net/event/rotary-meeting-6/
LOCATION:Bangor Golf Club\, Broadway\, BANGOR\, Northern Ireland\, BT20 4RH\, United Kingdom
END:VEVENT
BEGIN:VEVENT
DTSTART;TZID=Europe/London:20150819T130000
DTEND;TZID=Europe/London:20150819T140000
DTSTAMP:20260421T213545
CREATED:20150720T085030Z
LAST-MODIFIED:20150720T085030Z
UID:1804-1439989200-1439992800@www.bangorrotary.net
SUMMARY:Rotary Meeting
DESCRIPTION:Our Summer schedule is in place which means \n\nFreeform Meeting (no scheduled speakers)\nLunch is a fresh salad\nDress code is casual\n\nSee you there!
URL:https://www.bangorrotary.net/event/rotary-meeting-5/
LOCATION:Bangor Golf Club\, Broadway\, BANGOR\, Northern Ireland\, BT20 4RH\, United Kingdom
END:VEVENT
BEGIN:VEVENT
DTSTART;TZID=Europe/London:20150812T130000
DTEND;TZID=Europe/London:20150812T140000
DTSTAMP:20260421T213545
CREATED:20150720T084759Z
LAST-MODIFIED:20150720T084759Z
UID:1803-1439384400-1439388000@www.bangorrotary.net
SUMMARY:Rotary Meeting
DESCRIPTION:Our Summer schedule is in place which means \n\nFreeform Meeting (no scheduled speakers)\nLunch is a fresh salad\nDress code is casual\n\nSee you there!
URL:https://www.bangorrotary.net/event/rotary-meeting-4/
LOCATION:Northern Ireland
END:VEVENT
BEGIN:VEVENT
DTSTART;TZID=Europe/London:20150805T130000
DTEND;TZID=Europe/London:20150805T140000
DTSTAMP:20260421T213545
CREATED:20150720T084721Z
LAST-MODIFIED:20150720T084823Z
UID:1802-1438779600-1438783200@www.bangorrotary.net
SUMMARY:Rotary Meeting
DESCRIPTION:Our Summer schedule is in place which means \n\nFreeform Meeting (no scheduled speakers)\nLunch is a fresh salad\nDress code is casual\n\nSee you there!
URL:https://www.bangorrotary.net/event/rotary-meeting-3/
LOCATION:Northern Ireland
END:VEVENT
BEGIN:VEVENT
DTSTART;TZID=Europe/London:20150729T130000
DTEND;TZID=Europe/London:20150729T140000
DTSTAMP:20260421T213545
CREATED:20150720T084654Z
LAST-MODIFIED:20150720T084928Z
UID:1801-1438174800-1438178400@www.bangorrotary.net
SUMMARY:Rotary Meeting
DESCRIPTION:Our Summer schedule is in place which means \n\nFreeform Meeting (no scheduled speakers)\nLunch is a fresh salad\nDress code is casual\n\nSee you there!
URL:https://www.bangorrotary.net/event/rotary-meeting-2/
LOCATION:Bangor Golf Club\, Broadway\, BANGOR\, Northern Ireland\, BT20 4RH\, United Kingdom
END:VEVENT
BEGIN:VEVENT
DTSTART;TZID=Europe/London:20150722T130000
DTEND;TZID=Europe/London:20150722T140000
DTSTAMP:20260421T213545
CREATED:20150720T084551Z
LAST-MODIFIED:20150720T084953Z
UID:1800-1437570000-1437573600@www.bangorrotary.net
SUMMARY:Rotary Meeting
DESCRIPTION:Our Summer schedule is in place which means \n\nFreeform Meeting (no scheduled speakers)\nLunch is a fresh salad\nDress code is casual\n\nSee you there!
URL:https://www.bangorrotary.net/event/rotary-meeting/
LOCATION:Bangor Golf Club\, Broadway\, BANGOR\, Northern Ireland\, BT20 4RH\, United Kingdom
END:VEVENT
BEGIN:VEVENT
DTSTART;TZID=Europe/London:20150624T180000
DTEND;TZID=Europe/London:20150624T190000
DTSTAMP:20260421T213545
CREATED:20150518T125340Z
LAST-MODIFIED:20150518T125340Z
UID:1729-1435168800-1435172400@www.bangorrotary.net
SUMMARY:President's Handover Day
DESCRIPTION:Please note this change in the calendar and make a note to attend to give our new President a rip-roaring welcome to his new position!\nTea:  Breaded Scampi Peas and Salad
URL:https://www.bangorrotary.net/event/presidents-handover-day/
LOCATION:Bangor Golf Club\, Broadway\, BANGOR\, Northern Ireland\, BT20 4RH\, United Kingdom
ATTACH;FMTTYPE=image/jpeg:https://www.bangorrotary.net/wp-content/uploads/2015/05/paul-hatty.jpg
END:VEVENT
BEGIN:VEVENT
DTSTART;TZID=Europe/London:20150617T100000
DTEND;TZID=Europe/London:20150617T170000
DTSTAMP:20260421T213545
CREATED:20150518T125202Z
LAST-MODIFIED:20150612T084017Z
UID:1727-1434535200-1434560400@www.bangorrotary.net
SUMMARY:Outing to Daisy Lodge - SPECIAL EVENT
DESCRIPTION:Outing to Daisy Lodge near Newcastle. Lunch and usual meeting there with time in Newcastle afterwards.\nApprox. 10.00am until 5pm – Please meet at the McKee Clock\npartners welcome.\n(Please note: This event is instead of the weekly meeting)
URL:https://www.bangorrotary.net/event/outing-to-daisy-lodge-special-event/
LOCATION:Northern Ireland
ATTACH;FMTTYPE=image/jpeg:https://www.bangorrotary.net/wp-content/uploads/2015/05/rotary-LGO-300X250.jpg
END:VEVENT
BEGIN:VEVENT
DTSTART;TZID=Europe/London:20150610T130000
DTEND;TZID=Europe/London:20150610T140000
DTSTAMP:20260421T213545
CREATED:20150519T064752Z
LAST-MODIFIED:20150526T072655Z
UID:1744-1433941200-1433944800@www.bangorrotary.net
SUMMARY:Return visit from Nicola Hines
DESCRIPTION:A return visit from Nicola Hines who will be speaking to us again after recent trip to help in the Nepal disaster.
URL:https://www.bangorrotary.net/event/fellowship-day/
LOCATION:Bangor Golf Club\, Broadway\, BANGOR\, Northern Ireland\, BT20 4RH\, United Kingdom
END:VEVENT
BEGIN:VEVENT
DTSTART;TZID=Europe/London:20150604T103000
DTEND;TZID=Europe/London:20150604T120000
DTSTAMP:20260421T213545
CREATED:20150518T124847Z
LAST-MODIFIED:20150527T095154Z
UID:1724-1433413800-1433419200@www.bangorrotary.net
SUMMARY:Visit to Bangor Castle Walled Garden - SPECIAL EVENT
DESCRIPTION:Visit to Bangor Castle Walled Garden  with guided tour and refreshments in cafe – 10.30AM\nNo charge for tour.\nPartners welcome.
URL:https://www.bangorrotary.net/event/visit-to-bangor-castle-walled-garden-special-event/
LOCATION:Northern Ireland
END:VEVENT
BEGIN:VEVENT
DTSTART;TZID=Europe/London:20150603T130000
DTEND;TZID=Europe/London:20150603T140000
DTSTAMP:20260421T213545
CREATED:20150518T124602Z
LAST-MODIFIED:20150518T131915Z
UID:1723-1433336400-1433340000@www.bangorrotary.net
SUMMARY:Business Meeting
DESCRIPTION:Business Meeting \nLunch: BBQ Chicken Breast
URL:https://www.bangorrotary.net/event/business-meeting/
LOCATION:Bangor Golf Club\, Broadway\, BANGOR\, Northern Ireland\, BT20 4RH\, United Kingdom
ATTACH;FMTTYPE=image/jpeg:https://www.bangorrotary.net/wp-content/uploads/2015/05/rotary-LGO-300X250.jpg
END:VEVENT
END:VCALENDAR