BEGIN:VCALENDAR
VERSION:2.0
PRODID:-// - ECPv6.15.20//NONSGML v1.0//EN
CALSCALE:GREGORIAN
METHOD:PUBLISH
X-ORIGINAL-URL:https://www.bangorrotary.net
X-WR-CALDESC:Events for 
REFRESH-INTERVAL;VALUE=DURATION:PT1H
X-Robots-Tag:noindex
X-PUBLISHED-TTL:PT1H
BEGIN:VTIMEZONE
TZID:Europe/London
BEGIN:DAYLIGHT
TZOFFSETFROM:+0000
TZOFFSETTO:+0100
TZNAME:BST
DTSTART:20150329T010000
END:DAYLIGHT
BEGIN:STANDARD
TZOFFSETFROM:+0100
TZOFFSETTO:+0000
TZNAME:GMT
DTSTART:20151025T010000
END:STANDARD
BEGIN:DAYLIGHT
TZOFFSETFROM:+0000
TZOFFSETTO:+0100
TZNAME:BST
DTSTART:20160327T010000
END:DAYLIGHT
BEGIN:STANDARD
TZOFFSETFROM:+0100
TZOFFSETTO:+0000
TZNAME:GMT
DTSTART:20161030T010000
END:STANDARD
BEGIN:DAYLIGHT
TZOFFSETFROM:+0000
TZOFFSETTO:+0100
TZNAME:BST
DTSTART:20170326T010000
END:DAYLIGHT
BEGIN:STANDARD
TZOFFSETFROM:+0100
TZOFFSETTO:+0000
TZNAME:GMT
DTSTART:20171029T010000
END:STANDARD
END:VTIMEZONE
BEGIN:VEVENT
DTSTART;TZID=Europe/London:20160603T090000
DTEND;TZID=Europe/London:20160603T180000
DTSTAMP:20260421T131156
CREATED:20160222T153015Z
LAST-MODIFIED:20160222T153017Z
UID:1997-1464944400-1464976800@www.bangorrotary.net
SUMMARY:SPECIAL EVENT - Presidents' Night
DESCRIPTION:While our President might make the job look easy\, the task of keeping our Club on the straight and narrow calls for a cool head and steady hand. \nWhich is why I am asking you to mark the date in your diary and join with all of our Members in this Annual evening of delectation and delight. An evening of merriment\, of mirth\, of Awards and of memories. But most importantly of all\, an opportunity to thank Paul for having risked life and limb to lead us safely through the trials of the year. \n\nPlease also reserve the afternoon for an exciting pre-Dinner\, Rotarian and guests event! More details to follow.
URL:https://www.bangorrotary.net/event/special-event-presidents-night/
LOCATION:Bangor Golf Club\, Broadway\, BANGOR\, Northern Ireland\, BT20 4RH\, United Kingdom
END:VEVENT
BEGIN:VEVENT
DTSTART;TZID=Europe/London:20160601T140000
DTEND;TZID=Europe/London:20160601T150000
DTSTAMP:20260421T131156
CREATED:20160222T152835Z
LAST-MODIFIED:20160222T152835Z
UID:1996-1464789600-1464793200@www.bangorrotary.net
SUMMARY:Rotary Business Meeting
DESCRIPTION:Rotary Club of Bangor Business Meeting\nLunch: To be advised
URL:https://www.bangorrotary.net/event/rotary-business-meeting-5/
LOCATION:Bangor Golf Club\, Broadway\, BANGOR\, Northern Ireland\, BT20 4RH\, United Kingdom
END:VEVENT
BEGIN:VEVENT
DTSTART;TZID=Europe/London:20160525T190000
DTEND;TZID=Europe/London:20160525T200000
DTSTAMP:20260421T131156
CREATED:20160310T084228Z
LAST-MODIFIED:20160512T154211Z
UID:2005-1464202800-1464206400@www.bangorrotary.net
SUMMARY:Rotary Meeting -
DESCRIPTION:Guest speaker to be announced ASAP\nTea: TBA
URL:https://www.bangorrotary.net/event/rotary-meeting-special-guest/
LOCATION:Bangor Golf Club\, Broadway\, BANGOR\, Northern Ireland\, BT20 4RH\, United Kingdom
END:VEVENT
BEGIN:VEVENT
DTSTART;TZID=Europe/London:20160520T203000
DTEND;TZID=Europe/London:20160521T000000
DTSTAMP:20260421T131156
CREATED:20160401T070643Z
LAST-MODIFIED:20160401T070706Z
UID:2051-1463776200-1463788800@www.bangorrotary.net
SUMMARY:Rotary Club of Bangor Table Quiz
DESCRIPTION:Where: Bangor Tennis Clubhouse\, Farnham Park\, Bangor\, BT20 3SR\n\n\nWhen: Friday 20 May 2016\n\n\nTime 7:30pm\n\n\nCost: £5 per person collected on the night\n\n\nNo bar facilities so BYO – don’t forget glasses. Nuts\, crisps etc will be supplied on the tables.
URL:https://www.bangorrotary.net/event/rotary-club-of-bangor-table-quiz/
LOCATION:Northern Ireland
END:VEVENT
BEGIN:VEVENT
DTSTART;TZID=Europe/London:20160518T140000
DTEND;TZID=Europe/London:20160518T150000
DTSTAMP:20260421T131156
CREATED:20160222T152627Z
LAST-MODIFIED:20160512T154138Z
UID:1994-1463580000-1463583600@www.bangorrotary.net
SUMMARY:Rotary Meeting
DESCRIPTION:Nicola Hinds to visit Club and be elected an Honorary Member.\nLunch: Roast Beef Pepper Sauce
URL:https://www.bangorrotary.net/event/rotary-club-of-bangor-assembly-2/
LOCATION:Bangor Golf Club\, Broadway\, BANGOR\, Northern Ireland\, BT20 4RH\, United Kingdom
END:VEVENT
BEGIN:VEVENT
DTSTART;TZID=Europe/London:20160511T190000
DTEND;TZID=Europe/London:20160511T201500
DTSTAMP:20260421T131156
CREATED:20160222T152439Z
LAST-MODIFIED:20160504T144550Z
UID:1993-1462993200-1462997700@www.bangorrotary.net
SUMMARY:Club Assembly- SPECIAL EVENT. EVENING MEETING
DESCRIPTION:Rotary club of Bangor Assembly. This is an evening meeting and members are asked to attend as Assistant Governor Roland Bailie will be joining us.\nAn opportunity for your new Council to reveal what excitement lies ahead in 2016/17.\nTea: Breaded Chicken Goujons\n\nPlease note that this is an evening meeting
URL:https://www.bangorrotary.net/event/rotary-meeting-31/
LOCATION:Bangor Golf Club\, Broadway\, BANGOR\, Northern Ireland\, BT20 4RH\, United Kingdom
END:VEVENT
BEGIN:VEVENT
DTSTART;TZID=Europe/London:20160504T140000
DTEND;TZID=Europe/London:20160504T150000
DTSTAMP:20260421T131156
CREATED:20160222T152334Z
LAST-MODIFIED:20160222T152334Z
UID:1992-1462370400-1462374000@www.bangorrotary.net
SUMMARY:Rotary Business Meeting
DESCRIPTION:Bangor Rotary Business Meeting\nLunch: Pork Chops Mushroom Sauce
URL:https://www.bangorrotary.net/event/rotary-business-meeting-4/
LOCATION:Bangor Golf Club\, Broadway\, BANGOR\, Northern Ireland\, BT20 4RH\, United Kingdom
END:VEVENT
BEGIN:VEVENT
DTSTART;TZID=Europe/London:20160427T190000
DTEND;TZID=Europe/London:20160427T200000
DTSTAMP:20260421T131156
CREATED:20160222T152226Z
LAST-MODIFIED:20160310T083907Z
UID:1991-1461783600-1461787200@www.bangorrotary.net
SUMMARY:Rotary Meeting - Club AGM
DESCRIPTION:Rotary Club of Bangor AGM\nTea: Roast Turkey and Gravy
URL:https://www.bangorrotary.net/event/rotary-meeting-30/
LOCATION:Bangor Golf Club\, Broadway\, BANGOR\, Northern Ireland\, BT20 4RH\, United Kingdom
END:VEVENT
BEGIN:VEVENT
DTSTART;TZID=Europe/London:20160420T140000
DTEND;TZID=Europe/London:20160420T150000
DTSTAMP:20260421T131156
CREATED:20160222T152114Z
LAST-MODIFIED:20160222T152114Z
UID:1990-1461160800-1461164400@www.bangorrotary.net
SUMMARY:Rotary Meeting
DESCRIPTION:Speaker to be advised\nLunch: Grilled Cod Parsley Sauce
URL:https://www.bangorrotary.net/event/rotary-meeting-29/
LOCATION:Bangor Golf Club\, Broadway\, BANGOR\, Northern Ireland\, BT20 4RH\, United Kingdom
END:VEVENT
BEGIN:VEVENT
DTSTART;TZID=Europe/London:20160418T190000
DTEND;TZID=Europe/London:20160418T230000
DTSTAMP:20260421T131156
CREATED:20160322T115915Z
LAST-MODIFIED:20160322T115915Z
UID:2022-1461006000-1461020400@www.bangorrotary.net
SUMMARY:SPECIAL EVENT - Croft Bowling evening
DESCRIPTION:This is our annual outing with Croft Bowling.\nTime and details to follow.\nPlease note that the final time is to be confirmed.
URL:https://www.bangorrotary.net/event/special-event-croft-bowling-evening/
LOCATION:Bangor Golf Club\, Broadway\, BANGOR\, Northern Ireland\, BT20 4RH\, United Kingdom
END:VEVENT
BEGIN:VEVENT
DTSTART;TZID=Europe/London:20160413T140000
DTEND;TZID=Europe/London:20160413T150000
DTSTAMP:20260421T131156
CREATED:20160222T151939Z
LAST-MODIFIED:20160314T092500Z
UID:1989-1460556000-1460559600@www.bangorrotary.net
SUMMARY:Rotary outing - no meeting today
DESCRIPTION:This year’s Club outing is today and so there will not be a Meeting in the Golf Club\n‘In the footsteps of Saint Patrick’ to Down County Museum and Saint Patrick country.\nLunch at  The Cuan\, Strangford ( great reputation for food and  service )\nLeave approx 10:00am\,  return approx 16:30.\nAll Rotarians\, partners and guests welcome !\nFinal details\, cost  etc  t.b.c.\nPlease contact PP Ian Wilson to reserve your places.
URL:https://www.bangorrotary.net/event/rotary-meeting-28/
LOCATION:Bangor Golf Club\, Broadway\, BANGOR\, Northern Ireland\, BT20 4RH\, United Kingdom
END:VEVENT
BEGIN:VEVENT
DTSTART;TZID=Europe/London:20160406T140000
DTEND;TZID=Europe/London:20160406T150000
DTSTAMP:20260421T131156
CREATED:20160222T151834Z
LAST-MODIFIED:20160222T151834Z
UID:1988-1459951200-1459954800@www.bangorrotary.net
SUMMARY:Rotary Business Meeting
DESCRIPTION:Rotary Monthly Business Meeting\nLunch: Baked Irish Ham with Pepper Sauce
URL:https://www.bangorrotary.net/event/rotary-business-meeting-3/
LOCATION:Bangor Golf Club\, Broadway\, BANGOR\, Northern Ireland\, BT20 4RH\, United Kingdom
END:VEVENT
BEGIN:VEVENT
DTSTART;TZID=Europe/London:20160330T190000
DTEND;TZID=Europe/London:20160330T200000
DTSTAMP:20260421T131156
CREATED:20160222T151543Z
LAST-MODIFIED:20160330T110222Z
UID:1985-1459364400-1459368000@www.bangorrotary.net
SUMMARY:Rotary Meeting
DESCRIPTION:Speaker: Chris McGimpsey – Irish Association\nTea: Breaded Cod
URL:https://www.bangorrotary.net/event/rotary-meeting-27/
LOCATION:Bangor Golf Club\, Broadway\, BANGOR\, Northern Ireland\, BT20 4RH\, United Kingdom
END:VEVENT
BEGIN:VEVENT
DTSTART;TZID=Europe/London:20160323T130000
DTEND;TZID=Europe/London:20160323T140000
DTSTAMP:20260421T131156
CREATED:20160222T151429Z
LAST-MODIFIED:20160322T120229Z
UID:1984-1458738000-1458741600@www.bangorrotary.net
SUMMARY:Rotary Meeting
DESCRIPTION:Report from our successful Young Leadership winner Samantha Dornan.\nPlease be sure to attend to give Samantha a memorable Bangor Rotary welcome\nLunch: Breaded Cod
URL:https://www.bangorrotary.net/event/rotary-meeting-26/
LOCATION:Bangor Golf Club\, Broadway\, BANGOR\, Northern Ireland\, BT20 4RH\, United Kingdom
END:VEVENT
BEGIN:VEVENT
DTSTART;TZID=Europe/London:20160316T130000
DTEND;TZID=Europe/London:20160316T140000
DTSTAMP:20260421T131156
CREATED:20160222T151318Z
LAST-MODIFIED:20160222T151318Z
UID:1983-1458133200-1458136800@www.bangorrotary.net
SUMMARY:Rotary Meeting
DESCRIPTION:Neal Sommerville – Sea Cadets\nLunch: Roast Beef and Red Wine Gravy
URL:https://www.bangorrotary.net/event/rotary-meeting-25/
LOCATION:Bangor Golf Club\, Broadway\, BANGOR\, Northern Ireland\, BT20 4RH\, United Kingdom
END:VEVENT
BEGIN:VEVENT
DTSTART;TZID=Europe/London:20160314T080000
DTEND;TZID=Europe/London:20160314T170000
DTSTAMP:20260421T131156
CREATED:20160222T151150Z
LAST-MODIFIED:20160222T151204Z
UID:1981-1457942400-1457974800@www.bangorrotary.net
SUMMARY:SPECIAL EVENT - Kids Out
DESCRIPTION: Our annual Kids Out Day is to Bangor Omniplex.\nTime and further details to be advised
URL:https://www.bangorrotary.net/event/special-event-kids-out/
LOCATION:Northern Ireland
END:VEVENT
BEGIN:VEVENT
DTSTART;TZID=Europe/London:20160309T130000
DTEND;TZID=Europe/London:20160309T140000
DTSTAMP:20260421T131156
CREATED:20160222T150825Z
LAST-MODIFIED:20160223T173502Z
UID:1980-1457528400-1457532000@www.bangorrotary.net
SUMMARY:Rotary Meeting
DESCRIPTION:Speaker to be advised\nLunch: Pork Chops and Pepper Sauce
URL:https://www.bangorrotary.net/event/rotary-meeting-24/
LOCATION:Bangor Golf Club\, Broadway\, BANGOR\, Northern Ireland\, BT20 4RH\, United Kingdom
END:VEVENT
BEGIN:VEVENT
DTSTART;TZID=Europe/London:20160302T130000
DTEND;TZID=Europe/London:20160302T140000
DTSTAMP:20260421T131156
CREATED:20160201T110617Z
LAST-MODIFIED:20160219T173246Z
UID:1950-1456923600-1456927200@www.bangorrotary.net
SUMMARY:Rotary Business Meeting
DESCRIPTION:Business Meeting\nLunch: Savoury Mince Pie
URL:https://www.bangorrotary.net/event/rotary-business-meeting-2/
LOCATION:Bangor Golf Club\, Broadway\, BANGOR\, Northern Ireland\, BT20 4RH\, United Kingdom
END:VEVENT
BEGIN:VEVENT
DTSTART;TZID=Europe/London:20160224T180000
DTEND;TZID=Europe/London:20160224T190000
DTSTAMP:20260421T131156
CREATED:20160120T161905Z
LAST-MODIFIED:20160219T173229Z
UID:1944-1456336800-1456340400@www.bangorrotary.net
SUMMARY:Rotary Meeting
DESCRIPTION:Speaker: Gabrielle Brocklesby – Islam in Ireland\nTea: ‘Battered Chicken Strips with Chilli Sauce
URL:https://www.bangorrotary.net/event/rotary-meeting-23/
LOCATION:Bangor Golf Club\, Broadway\, BANGOR\, Northern Ireland\, BT20 4RH\, United Kingdom
END:VEVENT
BEGIN:VEVENT
DTSTART;TZID=Europe/London:20160222T080000
DTEND;TZID=Europe/London:20160222T170000
DTSTAMP:20260421T131156
CREATED:20160222T152730Z
LAST-MODIFIED:20160222T152730Z
UID:1995-1456128000-1456160400@www.bangorrotary.net
SUMMARY:Rotary Meeting
DESCRIPTION:Speaker: VIP Speaker to be confirmed\nTea: Gammon and Pineapple
URL:https://www.bangorrotary.net/event/rotary-meeting-32/
LOCATION:Bangor Golf Club\, Broadway\, BANGOR\, Northern Ireland\, BT20 4RH\, United Kingdom
END:VEVENT
BEGIN:VEVENT
DTSTART;TZID=Europe/London:20160217T130000
DTEND;TZID=Europe/London:20160217T140000
DTSTAMP:20260421T131156
CREATED:20160120T161755Z
LAST-MODIFIED:20160201T110439Z
UID:1943-1455714000-1455717600@www.bangorrotary.net
SUMMARY:Rotary Meeting
DESCRIPTION:Speaker: Maria McGilly – District Membership Chair\nLunch: Pan Seared Chicken and Mushroom Sauce
URL:https://www.bangorrotary.net/event/rotary-meeting-working-lunch-2/
LOCATION:Bangor Golf Club\, Broadway\, BANGOR\, Northern Ireland\, BT20 4RH\, United Kingdom
END:VEVENT
BEGIN:VEVENT
DTSTART;TZID=Europe/London:20160216T190000
DTEND;TZID=Europe/London:20160216T220000
DTSTAMP:20260421T131156
CREATED:20160120T161454Z
LAST-MODIFIED:20160120T161454Z
UID:1941-1455649200-1455660000@www.bangorrotary.net
SUMMARY:Rotary - SPECIAL EVENT
DESCRIPTION:A Club outing to Waldo’s Cinema in Helen’s Bay is planned for this evening.\nA crack team of film critics is working furiously to choose the perfect movie that will be suitable for all ages and yet not produced by Disney!\nMore details to come – watch this space!
URL:https://www.bangorrotary.net/event/rotary-special-event/
LOCATION:Northern Ireland
END:VEVENT
BEGIN:VEVENT
DTSTART;TZID=Europe/London:20160210T130000
DTEND;TZID=Europe/London:20160210T140000
DTSTAMP:20260421T131156
CREATED:20160120T161115Z
LAST-MODIFIED:20160120T161115Z
UID:1940-1455109200-1455112800@www.bangorrotary.net
SUMMARY:Rotary Meeting
DESCRIPTION:Speaker today is Clive Evans (more info to come)\nLunch: Grilled Fillet of hake with Parsley Sauce
URL:https://www.bangorrotary.net/event/rotary-meeting-22/
LOCATION:Bangor Golf Club\, Broadway\, BANGOR\, Northern Ireland\, BT20 4RH\, United Kingdom
END:VEVENT
BEGIN:VEVENT
DTSTART;TZID=Europe/London:20160203T130000
DTEND;TZID=Europe/London:20160203T140000
DTSTAMP:20260421T131156
CREATED:20160120T161005Z
LAST-MODIFIED:20160120T161005Z
UID:1939-1454504400-1454508000@www.bangorrotary.net
SUMMARY:Rotary Business Meeting
DESCRIPTION:Business Meeting Today. Best manners required!\nLunch: Breaded Chicken Goujons Chilli Sauce and Salad
URL:https://www.bangorrotary.net/event/rotary-business-meeting/
LOCATION:Bangor Golf Club\, Broadway\, BANGOR\, Northern Ireland\, BT20 4RH\, United Kingdom
END:VEVENT
BEGIN:VEVENT
DTSTART;TZID=Europe/London:20160127T180000
DTEND;TZID=Europe/London:20160127T190000
DTSTAMP:20260421T131156
CREATED:20160111T091300Z
LAST-MODIFIED:20160120T160801Z
UID:1932-1453917600-1453921200@www.bangorrotary.net
SUMMARY:Rotary Meeting
DESCRIPTION:Rotarian James O’Fee to give us a talk on his recent visit to Budapest where he visited a couple of Rotary Clubs in the city.\nTea:  Roast Beef Yorkshire Pudding and Gravy
URL:https://www.bangorrotary.net/event/rotary-meeting-21/
LOCATION:Bangor Golf Club\, Broadway\, BANGOR\, Northern Ireland\, BT20 4RH\, United Kingdom
END:VEVENT
BEGIN:VEVENT
DTSTART;TZID=Europe/London:20160120T130000
DTEND;TZID=Europe/London:20160120T140000
DTSTAMP:20260421T131156
CREATED:20160111T091146Z
LAST-MODIFIED:20160118T165016Z
UID:1931-1453294800-1453298400@www.bangorrotary.net
SUMMARY:Rotary Meeting - MEETING CANCELLED
DESCRIPTION:Please note that this week’s meeting has been cancelled to facilitate Members attending the funeral of Martin Gray\n\n\nFirst Bangor Presbyterian Church\n\n\nWednesday 20 January\n\n\n2.00 pm
URL:https://www.bangorrotary.net/event/rotary-meeting-working-lunch/
LOCATION:Bangor Golf Club\, Broadway\, BANGOR\, Northern Ireland\, BT20 4RH\, United Kingdom
END:VEVENT
BEGIN:VEVENT
DTSTART;TZID=Europe/London:20160115T200000
DTEND;TZID=Europe/London:20160115T220000
DTSTAMP:20260421T131156
CREATED:20160104T164226Z
LAST-MODIFIED:20160104T164433Z
UID:1927-1452888000-1452895200@www.bangorrotary.net
SUMMARY:Helen's Bay Players - SPECIAL EVENT!
DESCRIPTION:The Helen’s Bay Players production of  \nInspector Drake’s Last Case by David Tristram \nFriday 15 January 2016 @ 8.00pm in St John’s Hall\, Fort Road\, Helen’s Bay \nMrs Gagarin has been murdered\, leaving behind her son\, a couple of house guests\, one called Butler\, another called Duck\, and a rather odd household including Guest the butler\, Gardener the cook and Cook the gardener. \nEnter two policemen\, Sergeant Plod and his boss\, Inspector Drake\, the eponymous ‘hero’\, who appear to rival each other in their  incompetence\, and who try to solve a crime which seems ever more complex the more they investigate. \nBut are they actually as incompetent as they look? How the crime is solved is highly improbable\, rather silly and occasionally rude\, so be warned. \nThis is not a play for intellectuals nor those who like their crimes to be solved rationally and logically. \nCost £10 (including\, especially for Rotarians\, a contribution of £2 to add to the Club’s charitable fund raising).
URL:https://www.bangorrotary.net/event/theatre-visit-special-event/
LOCATION:Northern Ireland
END:VEVENT
BEGIN:VEVENT
DTSTART;TZID=Europe/London:20160113T130000
DTEND;TZID=Europe/London:20160113T140000
DTSTAMP:20260421T131156
CREATED:20160111T091012Z
LAST-MODIFIED:20160111T091012Z
UID:1930-1452690000-1452693600@www.bangorrotary.net
SUMMARY:Rotary Meeting
DESCRIPTION:Meeting today. \nSpeaker to be announced \nLunch: Grilled Gammon and Pineapple
URL:https://www.bangorrotary.net/event/rotary-meeting-20/
LOCATION:Bangor Golf Club\, Broadway\, BANGOR\, Northern Ireland\, BT20 4RH\, United Kingdom
END:VEVENT
BEGIN:VEVENT
DTSTART;TZID=Europe/London:20160111T080000
DTEND;TZID=Europe/London:20160111T170000
DTSTAMP:20260421T131156
CREATED:20160111T091514Z
LAST-MODIFIED:20160111T091514Z
UID:1934-1452499200-1452531600@www.bangorrotary.net
SUMMARY:Rotary Meeting - Business Meeting
DESCRIPTION:Business Meeting \nLunch:  Breaded Chicken Goujons Chilli Sauce and Salad
URL:https://www.bangorrotary.net/event/rotary-meeting-business-meeting-2/
LOCATION:Bangor Golf Club\, Broadway\, BANGOR\, Northern Ireland\, BT20 4RH\, United Kingdom
END:VEVENT
BEGIN:VEVENT
DTSTART;TZID=Europe/London:20160106T130000
DTEND;TZID=Europe/London:20160106T140000
DTSTAMP:20260421T131156
CREATED:20160104T100601Z
LAST-MODIFIED:20160104T100601Z
UID:1925-1452085200-1452088800@www.bangorrotary.net
SUMMARY:Rotary Meeting – Business Meeting
DESCRIPTION:Lunch – BBQ Roast Chicken and Pepper Sauce
URL:https://www.bangorrotary.net/event/rotary-meeting-business-meeting/
LOCATION:Bangor Golf Club\, Broadway\, BANGOR\, Northern Ireland\, BT20 4RH\, United Kingdom
END:VEVENT
END:VCALENDAR