BEGIN:VCALENDAR
VERSION:2.0
PRODID:-// - ECPv6.15.20//NONSGML v1.0//EN
CALSCALE:GREGORIAN
METHOD:PUBLISH
X-ORIGINAL-URL:https://www.bangorrotary.net
X-WR-CALDESC:Events for 
REFRESH-INTERVAL;VALUE=DURATION:PT1H
X-Robots-Tag:noindex
X-PUBLISHED-TTL:PT1H
BEGIN:VTIMEZONE
TZID:Europe/London
BEGIN:DAYLIGHT
TZOFFSETFROM:+0000
TZOFFSETTO:+0100
TZNAME:BST
DTSTART:20150329T010000
END:DAYLIGHT
BEGIN:STANDARD
TZOFFSETFROM:+0100
TZOFFSETTO:+0000
TZNAME:GMT
DTSTART:20151025T010000
END:STANDARD
BEGIN:DAYLIGHT
TZOFFSETFROM:+0000
TZOFFSETTO:+0100
TZNAME:BST
DTSTART:20160327T010000
END:DAYLIGHT
BEGIN:STANDARD
TZOFFSETFROM:+0100
TZOFFSETTO:+0000
TZNAME:GMT
DTSTART:20161030T010000
END:STANDARD
BEGIN:DAYLIGHT
TZOFFSETFROM:+0000
TZOFFSETTO:+0100
TZNAME:BST
DTSTART:20170326T010000
END:DAYLIGHT
BEGIN:STANDARD
TZOFFSETFROM:+0100
TZOFFSETTO:+0000
TZNAME:GMT
DTSTART:20171029T010000
END:STANDARD
END:VTIMEZONE
BEGIN:VEVENT
DTSTART;TZID=Europe/London:20161012T140000
DTEND;TZID=Europe/London:20161012T150000
DTSTAMP:20260421T064142
CREATED:20160928T093443Z
LAST-MODIFIED:20160929T133057Z
UID:2216-1476280800-1476284400@www.bangorrotary.net
SUMMARY:Rotary Meeting - Meet the Mayor
DESCRIPTION:Meet the Mayor\, Alderman Deborah Girvan\nCouncillor for Comber\, Deborah started the now very successful Comber Market\, Deborah has been an advocate of Integrated Education for many years. She is a lively speaker who will entertain us with stories of what has happened in her year to date and thoughts on how we can create an even more attractive\, welcoming Borough. \nLunch: Baked Irish Ham & Pepper Sauce
URL:https://www.bangorrotary.net/event/rotary-meeting-47/
LOCATION:Bangor Golf Club\, Broadway\, BANGOR\, Northern Ireland\, BT20 4RH\, United Kingdom
END:VEVENT
BEGIN:VEVENT
DTSTART;TZID=Europe/London:20161005T140000
DTEND;TZID=Europe/London:20161005T150000
DTSTAMP:20260421T064142
CREATED:20160928T093347Z
LAST-MODIFIED:20160928T093347Z
UID:2215-1475676000-1475679600@www.bangorrotary.net
SUMMARY:Rotary Business Meeting
DESCRIPTION:Lunch BBQ Chicken Breast & Mushroom Sauce
URL:https://www.bangorrotary.net/event/rotary-business-meeting-7/
LOCATION:Bangor Golf Club\, Broadway\, BANGOR\, Northern Ireland\, BT20 4RH\, United Kingdom
END:VEVENT
BEGIN:VEVENT
DTSTART;TZID=Europe/London:20160928T140000
DTEND;TZID=Europe/London:20160928T150000
DTSTAMP:20260421T064142
CREATED:20160819T135503Z
LAST-MODIFIED:20160923T070107Z
UID:2202-1475071200-1475074800@www.bangorrotary.net
SUMMARY:Rotary Meeting
DESCRIPTION:Guest Speaker: Bangor and North Down Samaritans local chair\, Wesley Wilson\nWesley joined the Samaritans in 2007\, on retirement from the police service.  Qualified in 2009 and practiced as a Cognitive Behaviour Therapist retiring 2016. \nJoined Samaritans in Bangor\, in 2007\, as a Listening Volunteer\, providing emotional support to contacts by phone\, email\, text and face-to face. \nAlso\, a member of the Outreach Team which promotes awareness of the services of Samaritans and delivers education on suicide prevention in schools and other community groups. \nAppointed as Chair of the Management Committee in 2016 with responsibility for governance\, due diligence\, compliance\, fund-raising and maintenance. \nLunch: Chili con Carne
URL:https://www.bangorrotary.net/event/rotary-meeting-46/
LOCATION:Bangor Golf Club\, Broadway\, BANGOR\, Northern Ireland\, BT20 4RH\, United Kingdom
END:VEVENT
BEGIN:VEVENT
DTSTART;TZID=Europe/London:20160921T190000
DTEND;TZID=Europe/London:20160921T200000
DTSTAMP:20260421T064142
CREATED:20160819T135340Z
LAST-MODIFIED:20160909T152518Z
UID:2200-1474484400-1474488000@www.bangorrotary.net
SUMMARY:Rotary EVENING Meeting: Business Speaker Series\, Bill Wolsey
DESCRIPTION:Guest Speaker: Serial entrepreneur Bill Wolsey whose company Beannachor continues to grow with the opening of Bullitt Hotel.\nDinner: Roast Beef with Red Wine Jus
URL:https://www.bangorrotary.net/event/rotary-evening-meeting-business-speaker-series/
LOCATION:Bangor Golf Club\, Broadway\, BANGOR\, Northern Ireland\, BT20 4RH\, United Kingdom
END:VEVENT
BEGIN:VEVENT
DTSTART;TZID=Europe/London:20160914T140000
DTEND;TZID=Europe/London:20160914T150000
DTSTAMP:20260421T064142
CREATED:20160819T134639Z
LAST-MODIFIED:20160825T170722Z
UID:2198-1473861600-1473865200@www.bangorrotary.net
SUMMARY:Rotary Meeting
DESCRIPTION:Guest Speaker: Multi Medal Winner Marie Devine won 3 Golds and a Silver at the UK Transplant Games\, held during the summer in Liverpool.\nLunch: Chicken Fillet Burger Salad & Chips\n 
URL:https://www.bangorrotary.net/event/rotary-meeting-43/
LOCATION:Bangor Golf Club\, Broadway\, BANGOR\, Northern Ireland\, BT20 4RH\, United Kingdom
END:VEVENT
BEGIN:VEVENT
DTSTART;TZID=Europe/London:20160907T140000
DTEND;TZID=Europe/London:20160907T150000
DTSTAMP:20260421T064142
CREATED:20160819T133913Z
LAST-MODIFIED:20160825T170652Z
UID:2197-1473256800-1473260400@www.bangorrotary.net
SUMMARY:Rotary Business Meeting
DESCRIPTION:Welcome to the first Business Meeting of the new Rotary Year. What’s in store?\nLunch: Grilled Gammon & Pineapple
URL:https://www.bangorrotary.net/event/rotary-business-meeting-6/
LOCATION:Bangor Golf Club\, Broadway\, BANGOR\, Northern Ireland\, BT20 4RH\, United Kingdom
END:VEVENT
BEGIN:VEVENT
DTSTART;TZID=Europe/London:20160831T140000
DTEND;TZID=Europe/London:20160831T150000
DTSTAMP:20260421T064142
CREATED:20160616T075452Z
LAST-MODIFIED:20160616T075452Z
UID:2126-1472652000-1472655600@www.bangorrotary.net
SUMMARY:Rotary Meeting
DESCRIPTION:During July and August we meet at lunch time and the standard menu is a salad.
URL:https://www.bangorrotary.net/event/rotary-meeting-45/
LOCATION:Bangor Golf Club\, Broadway\, BANGOR\, Northern Ireland\, BT20 4RH\, United Kingdom
END:VEVENT
BEGIN:VEVENT
DTSTART;TZID=Europe/London:20160824T140000
DTEND;TZID=Europe/London:20160824T150000
DTSTAMP:20260421T064142
CREATED:20160616T075418Z
LAST-MODIFIED:20160817T075332Z
UID:2125-1472047200-1472050800@www.bangorrotary.net
SUMMARY:Rotary Meeting
DESCRIPTION:During July and August we meet at lunch time and the standard menu is a salad.\nToday we will take a look at our preferred charities and try to match some of them up with our planned events.
URL:https://www.bangorrotary.net/event/rotary-meeting-44/
LOCATION:Bangor Golf Club\, Broadway\, BANGOR\, Northern Ireland\, BT20 4RH\, United Kingdom
END:VEVENT
BEGIN:VEVENT
DTSTART;TZID=Europe/London:20160817T140000
DTEND;TZID=Europe/London:20160817T150000
DTSTAMP:20260421T064142
CREATED:20160616T075311Z
LAST-MODIFIED:20160817T075256Z
UID:2123-1471442400-1471446000@www.bangorrotary.net
SUMMARY:Rotary Meeting
DESCRIPTION:During July and August we meet at lunch time and the standard menu is a salad.\nToday we will take a look at our preferred charities and try to match some of them up with our planned events: PLEASE NOTE THIS IS NOW RESCHEDULED FOR AUGUST 24
URL:https://www.bangorrotary.net/event/rotary-meeting-42/
LOCATION:Bangor Golf Club\, Broadway\, BANGOR\, Northern Ireland\, BT20 4RH\, United Kingdom
END:VEVENT
BEGIN:VEVENT
DTSTART;TZID=Europe/London:20160810T140000
DTEND;TZID=Europe/London:20160810T150000
DTSTAMP:20260421T064142
CREATED:20160616T075238Z
LAST-MODIFIED:20160616T075238Z
UID:2122-1470837600-1470841200@www.bangorrotary.net
SUMMARY:Rotary Meeting
DESCRIPTION:During July and August we meet at lunch time and the standard menu is a salad.
URL:https://www.bangorrotary.net/event/rotary-meeting-41/
LOCATION:Bangor Golf Club\, Broadway\, BANGOR\, Northern Ireland\, BT20 4RH\, United Kingdom
END:VEVENT
BEGIN:VEVENT
DTSTART;TZID=Europe/London:20160808T193000
DTEND;TZID=Europe/London:20160808T210000
DTSTAMP:20260421T064142
CREATED:20160720T164936Z
LAST-MODIFIED:20160720T164936Z
UID:2157-1470684600-1470690000@www.bangorrotary.net
SUMMARY:Council Meeting
DESCRIPTION:First meeting of the new Council at home of President Gavin (9 Bangor Road\, Groompsort BT19 6JF)\nAgenda to cover plans for upcoming year.\nCouncil members are asked to come furnished with ideas and a sharp pencil!
URL:https://www.bangorrotary.net/event/council-meeting/
LOCATION:Northern Ireland
END:VEVENT
BEGIN:VEVENT
DTSTART;TZID=Europe/London:20160803T140000
DTEND;TZID=Europe/London:20160803T150000
DTSTAMP:20260421T064142
CREATED:20160616T075203Z
LAST-MODIFIED:20160616T075203Z
UID:2121-1470232800-1470236400@www.bangorrotary.net
SUMMARY:Rotary Meeting
DESCRIPTION:During July and August we meet at lunch time and the standard menu is a salad.
URL:https://www.bangorrotary.net/event/rotary-meeting-40/
LOCATION:Bangor Golf Club\, Broadway\, BANGOR\, Northern Ireland\, BT20 4RH\, United Kingdom
END:VEVENT
BEGIN:VEVENT
DTSTART;TZID=Europe/London:20160727T140000
DTEND;TZID=Europe/London:20160727T150000
DTSTAMP:20260421T064142
CREATED:20160616T075131Z
LAST-MODIFIED:20160725T121820Z
UID:2120-1469628000-1469631600@www.bangorrotary.net
SUMMARY:Rotary Meeting
DESCRIPTION:During July and August we meet at lunch time and the standard menu is a salad.\nHalf way through Summer  – so we’ll celebrate with a Summer-themed quiz with a valuable prize to be won.
URL:https://www.bangorrotary.net/event/rotary-meeting-39/
LOCATION:Bangor Golf Club\, Broadway\, BANGOR\, Northern Ireland\, BT20 4RH\, United Kingdom
END:VEVENT
BEGIN:VEVENT
DTSTART;TZID=Europe/London:20160720T140000
DTEND;TZID=Europe/London:20160720T150000
DTSTAMP:20260421T064142
CREATED:20160616T075056Z
LAST-MODIFIED:20160719T144432Z
UID:2119-1469023200-1469026800@www.bangorrotary.net
SUMMARY:Rotary Meeting
DESCRIPTION:During July and August we meet at lunch time and the standard menu is a salad.\nToday we will enjoy a visit from Assistant DG Roland Bailie.
URL:https://www.bangorrotary.net/event/rotary-meeting-38/
LOCATION:Bangor Golf Club\, Broadway\, BANGOR\, Northern Ireland\, BT20 4RH\, United Kingdom
END:VEVENT
BEGIN:VEVENT
DTSTART;TZID=Europe/London:20160713T140000
DTEND;TZID=Europe/London:20160713T150000
DTSTAMP:20260421T064142
CREATED:20160616T075019Z
LAST-MODIFIED:20160705T150345Z
UID:2118-1468418400-1468422000@www.bangorrotary.net
SUMMARY:Rotary Meeting - none today
DESCRIPTION:There will NOT be a Rotary meeting today.
URL:https://www.bangorrotary.net/event/rotary-meeting-37/
LOCATION:Bangor Golf Club\, Broadway\, BANGOR\, Northern Ireland\, BT20 4RH\, United Kingdom
END:VEVENT
BEGIN:VEVENT
DTSTART;TZID=Europe/London:20160706T140000
DTEND;TZID=Europe/London:20160706T150000
DTSTAMP:20260421T064142
CREATED:20160616T074926Z
LAST-MODIFIED:20160616T074926Z
UID:2117-1467813600-1467817200@www.bangorrotary.net
SUMMARY:Rotary Meeting - Handover Day
DESCRIPTION:Today is Handover Day\nDuring July and August we meet at lunch time and the standard menu is a salad.\nPlease note that from today lunch will cost £7.
URL:https://www.bangorrotary.net/event/rotary-meeting-handover-day/
LOCATION:Bangor Golf Club\, Broadway\, BANGOR\, Northern Ireland\, BT20 4RH\, United Kingdom
END:VEVENT
BEGIN:VEVENT
DTSTART;TZID=Europe/London:20160629T190000
DTEND;TZID=Europe/London:20160629T200000
DTSTAMP:20260421T064142
CREATED:20160607T134156Z
LAST-MODIFIED:20160616T074549Z
UID:2083-1467226800-1467230400@www.bangorrotary.net
SUMMARY:Rotary Evening Meeting
DESCRIPTION:Tea: Gammon and Pineapple (enjoy it – from next week is £7 for lunch!)\nPlease note that this is an EVENING MEETING and apologies for any previous confusion!
URL:https://www.bangorrotary.net/event/rotary-meeting-36/
LOCATION:Bangor Golf Club\, Broadway\, BANGOR\, Northern Ireland\, BT20 4RH\, United Kingdom
END:VEVENT
BEGIN:VEVENT
DTSTART;TZID=Europe/London:20160622T140000
DTEND;TZID=Europe/London:20160622T150000
DTSTAMP:20260421T064142
CREATED:20160607T134049Z
LAST-MODIFIED:20160616T074707Z
UID:2082-1466604000-1466607600@www.bangorrotary.net
SUMMARY:Rotary Meeting
DESCRIPTION:Lunch: Roast Beef Chasseur\nSpeaker: President Paul Hatty on the person who was a major influence in his life.
URL:https://www.bangorrotary.net/event/rotary-meeting-35/
LOCATION:Bangor Golf Club\, Broadway\, BANGOR\, Northern Ireland\, BT20 4RH\, United Kingdom
END:VEVENT
BEGIN:VEVENT
DTSTART;TZID=Europe/London:20160615T140000
DTEND;TZID=Europe/London:20160615T150000
DTSTAMP:20260421T064142
CREATED:20160607T133844Z
LAST-MODIFIED:20160607T133844Z
UID:2081-1465999200-1466002800@www.bangorrotary.net
SUMMARY:Rotary Meeting
DESCRIPTION:Lunch: Pork Chops and Pepper Sauce
URL:https://www.bangorrotary.net/event/rotary-meeting-34/
LOCATION:Bangor Golf Club\, Broadway\, BANGOR\, Northern Ireland\, BT20 4RH\, United Kingdom
END:VEVENT
BEGIN:VEVENT
DTSTART;TZID=Europe/London:20160608T140000
DTEND;TZID=Europe/London:20160608T150000
DTSTAMP:20260421T064142
CREATED:20160607T133728Z
LAST-MODIFIED:20160607T134001Z
UID:2080-1465394400-1465398000@www.bangorrotary.net
SUMMARY:Rotary Meeting
DESCRIPTION:Lunch: Battered Chicken Goujons
URL:https://www.bangorrotary.net/event/rotary-meeting-33/
LOCATION:Bangor Golf Club\, Broadway\, BANGOR\, Northern Ireland\, BT20 4RH\, United Kingdom
END:VEVENT
BEGIN:VEVENT
DTSTART;TZID=Europe/London:20160603T090000
DTEND;TZID=Europe/London:20160603T180000
DTSTAMP:20260421T064142
CREATED:20160222T153015Z
LAST-MODIFIED:20160222T153017Z
UID:1997-1464944400-1464976800@www.bangorrotary.net
SUMMARY:SPECIAL EVENT - Presidents' Night
DESCRIPTION:While our President might make the job look easy\, the task of keeping our Club on the straight and narrow calls for a cool head and steady hand. \nWhich is why I am asking you to mark the date in your diary and join with all of our Members in this Annual evening of delectation and delight. An evening of merriment\, of mirth\, of Awards and of memories. But most importantly of all\, an opportunity to thank Paul for having risked life and limb to lead us safely through the trials of the year. \n\nPlease also reserve the afternoon for an exciting pre-Dinner\, Rotarian and guests event! More details to follow.
URL:https://www.bangorrotary.net/event/special-event-presidents-night/
LOCATION:Bangor Golf Club\, Broadway\, BANGOR\, Northern Ireland\, BT20 4RH\, United Kingdom
END:VEVENT
BEGIN:VEVENT
DTSTART;TZID=Europe/London:20160601T140000
DTEND;TZID=Europe/London:20160601T150000
DTSTAMP:20260421T064142
CREATED:20160222T152835Z
LAST-MODIFIED:20160222T152835Z
UID:1996-1464789600-1464793200@www.bangorrotary.net
SUMMARY:Rotary Business Meeting
DESCRIPTION:Rotary Club of Bangor Business Meeting\nLunch: To be advised
URL:https://www.bangorrotary.net/event/rotary-business-meeting-5/
LOCATION:Bangor Golf Club\, Broadway\, BANGOR\, Northern Ireland\, BT20 4RH\, United Kingdom
END:VEVENT
BEGIN:VEVENT
DTSTART;TZID=Europe/London:20160525T190000
DTEND;TZID=Europe/London:20160525T200000
DTSTAMP:20260421T064142
CREATED:20160310T084228Z
LAST-MODIFIED:20160512T154211Z
UID:2005-1464202800-1464206400@www.bangorrotary.net
SUMMARY:Rotary Meeting -
DESCRIPTION:Guest speaker to be announced ASAP\nTea: TBA
URL:https://www.bangorrotary.net/event/rotary-meeting-special-guest/
LOCATION:Bangor Golf Club\, Broadway\, BANGOR\, Northern Ireland\, BT20 4RH\, United Kingdom
END:VEVENT
BEGIN:VEVENT
DTSTART;TZID=Europe/London:20160520T203000
DTEND;TZID=Europe/London:20160521T000000
DTSTAMP:20260421T064142
CREATED:20160401T070643Z
LAST-MODIFIED:20160401T070706Z
UID:2051-1463776200-1463788800@www.bangorrotary.net
SUMMARY:Rotary Club of Bangor Table Quiz
DESCRIPTION:Where: Bangor Tennis Clubhouse\, Farnham Park\, Bangor\, BT20 3SR\n\n\nWhen: Friday 20 May 2016\n\n\nTime 7:30pm\n\n\nCost: £5 per person collected on the night\n\n\nNo bar facilities so BYO – don’t forget glasses. Nuts\, crisps etc will be supplied on the tables.
URL:https://www.bangorrotary.net/event/rotary-club-of-bangor-table-quiz/
LOCATION:Northern Ireland
END:VEVENT
BEGIN:VEVENT
DTSTART;TZID=Europe/London:20160518T140000
DTEND;TZID=Europe/London:20160518T150000
DTSTAMP:20260421T064142
CREATED:20160222T152627Z
LAST-MODIFIED:20160512T154138Z
UID:1994-1463580000-1463583600@www.bangorrotary.net
SUMMARY:Rotary Meeting
DESCRIPTION:Nicola Hinds to visit Club and be elected an Honorary Member.\nLunch: Roast Beef Pepper Sauce
URL:https://www.bangorrotary.net/event/rotary-club-of-bangor-assembly-2/
LOCATION:Bangor Golf Club\, Broadway\, BANGOR\, Northern Ireland\, BT20 4RH\, United Kingdom
END:VEVENT
BEGIN:VEVENT
DTSTART;TZID=Europe/London:20160511T190000
DTEND;TZID=Europe/London:20160511T201500
DTSTAMP:20260421T064142
CREATED:20160222T152439Z
LAST-MODIFIED:20160504T144550Z
UID:1993-1462993200-1462997700@www.bangorrotary.net
SUMMARY:Club Assembly- SPECIAL EVENT. EVENING MEETING
DESCRIPTION:Rotary club of Bangor Assembly. This is an evening meeting and members are asked to attend as Assistant Governor Roland Bailie will be joining us.\nAn opportunity for your new Council to reveal what excitement lies ahead in 2016/17.\nTea: Breaded Chicken Goujons\n\nPlease note that this is an evening meeting
URL:https://www.bangorrotary.net/event/rotary-meeting-31/
LOCATION:Bangor Golf Club\, Broadway\, BANGOR\, Northern Ireland\, BT20 4RH\, United Kingdom
END:VEVENT
BEGIN:VEVENT
DTSTART;TZID=Europe/London:20160504T140000
DTEND;TZID=Europe/London:20160504T150000
DTSTAMP:20260421T064142
CREATED:20160222T152334Z
LAST-MODIFIED:20160222T152334Z
UID:1992-1462370400-1462374000@www.bangorrotary.net
SUMMARY:Rotary Business Meeting
DESCRIPTION:Bangor Rotary Business Meeting\nLunch: Pork Chops Mushroom Sauce
URL:https://www.bangorrotary.net/event/rotary-business-meeting-4/
LOCATION:Bangor Golf Club\, Broadway\, BANGOR\, Northern Ireland\, BT20 4RH\, United Kingdom
END:VEVENT
BEGIN:VEVENT
DTSTART;TZID=Europe/London:20160427T190000
DTEND;TZID=Europe/London:20160427T200000
DTSTAMP:20260421T064142
CREATED:20160222T152226Z
LAST-MODIFIED:20160310T083907Z
UID:1991-1461783600-1461787200@www.bangorrotary.net
SUMMARY:Rotary Meeting - Club AGM
DESCRIPTION:Rotary Club of Bangor AGM\nTea: Roast Turkey and Gravy
URL:https://www.bangorrotary.net/event/rotary-meeting-30/
LOCATION:Bangor Golf Club\, Broadway\, BANGOR\, Northern Ireland\, BT20 4RH\, United Kingdom
END:VEVENT
BEGIN:VEVENT
DTSTART;TZID=Europe/London:20160420T140000
DTEND;TZID=Europe/London:20160420T150000
DTSTAMP:20260421T064142
CREATED:20160222T152114Z
LAST-MODIFIED:20160222T152114Z
UID:1990-1461160800-1461164400@www.bangorrotary.net
SUMMARY:Rotary Meeting
DESCRIPTION:Speaker to be advised\nLunch: Grilled Cod Parsley Sauce
URL:https://www.bangorrotary.net/event/rotary-meeting-29/
LOCATION:Bangor Golf Club\, Broadway\, BANGOR\, Northern Ireland\, BT20 4RH\, United Kingdom
END:VEVENT
BEGIN:VEVENT
DTSTART;TZID=Europe/London:20160418T190000
DTEND;TZID=Europe/London:20160418T230000
DTSTAMP:20260421T064142
CREATED:20160322T115915Z
LAST-MODIFIED:20160322T115915Z
UID:2022-1461006000-1461020400@www.bangorrotary.net
SUMMARY:SPECIAL EVENT - Croft Bowling evening
DESCRIPTION:This is our annual outing with Croft Bowling.\nTime and details to follow.\nPlease note that the final time is to be confirmed.
URL:https://www.bangorrotary.net/event/special-event-croft-bowling-evening/
LOCATION:Bangor Golf Club\, Broadway\, BANGOR\, Northern Ireland\, BT20 4RH\, United Kingdom
END:VEVENT
END:VCALENDAR