BEGIN:VCALENDAR
VERSION:2.0
PRODID:-// - ECPv6.15.20//NONSGML v1.0//EN
CALSCALE:GREGORIAN
METHOD:PUBLISH
X-ORIGINAL-URL:https://www.bangorrotary.net
X-WR-CALDESC:Events for 
REFRESH-INTERVAL;VALUE=DURATION:PT1H
X-Robots-Tag:noindex
X-PUBLISHED-TTL:PT1H
BEGIN:VTIMEZONE
TZID:Europe/London
BEGIN:DAYLIGHT
TZOFFSETFROM:+0000
TZOFFSETTO:+0100
TZNAME:BST
DTSTART:20150329T010000
END:DAYLIGHT
BEGIN:STANDARD
TZOFFSETFROM:+0100
TZOFFSETTO:+0000
TZNAME:GMT
DTSTART:20151025T010000
END:STANDARD
BEGIN:DAYLIGHT
TZOFFSETFROM:+0000
TZOFFSETTO:+0100
TZNAME:BST
DTSTART:20160327T010000
END:DAYLIGHT
BEGIN:STANDARD
TZOFFSETFROM:+0100
TZOFFSETTO:+0000
TZNAME:GMT
DTSTART:20161030T010000
END:STANDARD
BEGIN:DAYLIGHT
TZOFFSETFROM:+0000
TZOFFSETTO:+0100
TZNAME:BST
DTSTART:20170326T010000
END:DAYLIGHT
BEGIN:STANDARD
TZOFFSETFROM:+0100
TZOFFSETTO:+0000
TZNAME:GMT
DTSTART:20171029T010000
END:STANDARD
BEGIN:DAYLIGHT
TZOFFSETFROM:+0000
TZOFFSETTO:+0100
TZNAME:BST
DTSTART:20180325T010000
END:DAYLIGHT
BEGIN:STANDARD
TZOFFSETFROM:+0100
TZOFFSETTO:+0000
TZNAME:GMT
DTSTART:20181028T010000
END:STANDARD
END:VTIMEZONE
BEGIN:VEVENT
DTSTART;TZID=Europe/London:20170613T103000
DTEND;TZID=Europe/London:20170613T180000
DTSTAMP:20260420T233022
CREATED:20170405T142706Z
LAST-MODIFIED:20170606T063014Z
UID:2668-1497349800-1497376800@www.bangorrotary.net
SUMMARY:Bangor Rotary on the Road - CANCELLED
DESCRIPTION:Please note that the planned coach trip to Exploris has been cancelled and that the weekly meeting on Wednesday 14th has been reinstated.
URL:https://www.bangorrotary.net/event/bangor-rotary-on-the-road/
LOCATION:Bangor Golf Club\, Broadway\, BANGOR\, Northern Ireland\, BT20 4RH\, United Kingdom
END:VEVENT
BEGIN:VEVENT
DTSTART;TZID=Europe/London:20170607T140000
DTEND;TZID=Europe/London:20170607T150000
DTSTAMP:20260420T233022
CREATED:20170405T142332Z
LAST-MODIFIED:20170519T102333Z
UID:2666-1496844000-1496847600@www.bangorrotary.net
SUMMARY:Rotary Business Meeting
DESCRIPTION:Business Meeting today\nLunch: Turkey & Ham
URL:https://www.bangorrotary.net/event/extra-special-event-business-meeting/
LOCATION:Bangor Golf Club\, Broadway\, BANGOR\, Northern Ireland\, BT20 4RH\, United Kingdom
END:VEVENT
BEGIN:VEVENT
DTSTART;TZID=Europe/London:20170531T140000
DTEND;TZID=Europe/London:20170531T150000
DTSTAMP:20260420T233022
CREATED:20170405T142111Z
LAST-MODIFIED:20170509T090437Z
UID:2664-1496239200-1496242800@www.bangorrotary.net
SUMMARY:SPECIAL EVENT: Club Assembly
DESCRIPTION:This is the rescheduled Club Assembly when we will discover what President Elect James has in store for us as we look forward to the new Rotary year.\n** Please note that this is a lunchtime meeting **\nThe Fifth Wednesday Dinner has now been CANCELLED
URL:https://www.bangorrotary.net/event/special-event-fifth-wednesday-dinner-3/
LOCATION:Bangor Golf Club\, Broadway\, BANGOR\, Northern Ireland\, BT20 4RH\, United Kingdom
END:VEVENT
BEGIN:VEVENT
DTSTART;TZID=Europe/London:20170524T140000
DTEND;TZID=Europe/London:20170524T150000
DTSTAMP:20260420T233022
CREATED:20170202T171550Z
LAST-MODIFIED:20170420T133705Z
UID:2497-1495634400-1495638000@www.bangorrotary.net
SUMMARY:SPECIAL EVENT - Distribution of raised funds
DESCRIPTION:We will be inviting a representative from each of the organisations we have agreed to support during the year to join us for this Gala Luncheon.\nMore information to follow\n(Photys will be tuk – so wear your best bib-and-tucker!)\nLunch: Breaded Scampi
URL:https://www.bangorrotary.net/event/special-event-distribution-of-raised-funds/
LOCATION:Bangor Golf Club\, Broadway\, BANGOR\, Northern Ireland\, BT20 4RH\, United Kingdom
END:VEVENT
BEGIN:VEVENT
DTSTART;TZID=Europe/London:20170517T203000
DTEND;TZID=Europe/London:20170517T223000
DTSTAMP:20260420T233022
CREATED:20170322T103857Z
LAST-MODIFIED:20170515T063716Z
UID:2637-1495053000-1495060200@www.bangorrotary.net
SUMMARY:SPECIAL EVENT - Table Quiz
DESCRIPTION:Gather your own team of four or six eggheads to take on the challenge of our Table Quiz ’17!\nLight food served this evening\n£5 per person.\nOrganised by PP Bill Aiken
URL:https://www.bangorrotary.net/event/special-event-table-quiz/
LOCATION:Bangor Golf Club\, Broadway\, BANGOR\, Northern Ireland\, BT20 4RH\, United Kingdom
END:VEVENT
BEGIN:VEVENT
DTSTART;TZID=Europe/London:20170510T010000
DTEND;TZID=Europe/London:20170510T010000
DTSTAMP:20260420T233022
CREATED:20170322T104703Z
LAST-MODIFIED:20170509T090618Z
UID:2646-1494378000-1494378000@www.bangorrotary.net
SUMMARY:Rotary Update - no meeting today
DESCRIPTION:On the sad news of the death of our Past President Harry McDonough\, and the scheduling of his funeral today\, there is no meeting.\nAs a Club we will miss our friend desperately and our thoughts are with Marjorie and his family.\nThe funeral arrangements are\n\n\nWednesday 10th May\n\n\n12:30\n\n\nSt John’s Church of Ireland Church\, 13 Fort Road\, Helen’s Bay\, BT19 1LA\n\n\n\nClub Assembly which was scheduled to be held on this date has now been rescheduled for\n\n\n1pm\n\n\nWednesday 31st 2017\n\n\nThe Fifth Wednesday Dinner has now been cancelled\n\n\n 
URL:https://www.bangorrotary.net/event/rotary-meeting-club-assembly/
LOCATION:Bangor Golf Club\, Broadway\, BANGOR\, Northern Ireland\, BT20 4RH\, United Kingdom
END:VEVENT
BEGIN:VEVENT
DTSTART;TZID=Europe/London:20170503T140000
DTEND;TZID=Europe/London:20170503T143000
DTSTAMP:20260420T233022
CREATED:20170322T104137Z
LAST-MODIFIED:20170420T133552Z
UID:2642-1493820000-1493821800@www.bangorrotary.net
SUMMARY:Rotary Business Meeting
DESCRIPTION:Be a part of the excitement!\nLunch: Roast Beef
URL:https://www.bangorrotary.net/event/rotary-business-meeting-11/
LOCATION:Bangor Golf Club\, Broadway\, BANGOR\, Northern Ireland\, BT20 4RH\, United Kingdom
END:VEVENT
BEGIN:VEVENT
DTSTART;TZID=Europe/London:20170426T140000
DTEND;TZID=Europe/London:20170426T150000
DTSTAMP:20260420T233022
CREATED:20170322T104534Z
LAST-MODIFIED:20170322T104534Z
UID:2644-1493215200-1493218800@www.bangorrotary.net
SUMMARY:Rotary Meeting - AGM
DESCRIPTION:A review of the year financially\, socially\, successfully and spiritually!\nLunch: TBD
URL:https://www.bangorrotary.net/event/rotary-meeting-agm/
LOCATION:Bangor Golf Club\, Broadway\, BANGOR\, Northern Ireland\, BT20 4RH\, United Kingdom
END:VEVENT
BEGIN:VEVENT
DTSTART;TZID=Europe/London:20170419T140000
DTEND;TZID=Europe/London:20170419T150000
DTSTAMP:20260420T233022
CREATED:20170228T133000Z
LAST-MODIFIED:20170412T071358Z
UID:2546-1492610400-1492614000@www.bangorrotary.net
SUMMARY:SPECIAL EVENT: Archives Review Day
DESCRIPTION:There is no formal meeting today\, but we have agreed to bring all of our Archives together in one place and use this meeting to cull the piles we have retaining the important papers and shredding the remainder.\nLunch: No lunch will be served. Members can order from the bar if required.
URL:https://www.bangorrotary.net/event/rotary-meeting-54/
LOCATION:Northern Ireland
END:VEVENT
BEGIN:VEVENT
DTSTART;TZID=Europe/London:20170412T140000
DTEND;TZID=Europe/London:20170412T150000
DTSTAMP:20260420T233022
CREATED:20170228T132823Z
LAST-MODIFIED:20170412T071421Z
UID:2544-1492005600-1492009200@www.bangorrotary.net
SUMMARY:Rotary Meeting
DESCRIPTION:Speaker: Dennis MacNeice of Bangor Drama Club. Many members will know Dennis who will update us on all the exciting progress with the Club’s new home in the former Good Templar Hall\, and their future plans.\nLunch: Ham and Parsley Sauce
URL:https://www.bangorrotary.net/event/rotary-meeting-53/
LOCATION:Bangor Golf Club\, Broadway\, BANGOR\, Northern Ireland\, BT20 4RH\, United Kingdom
END:VEVENT
BEGIN:VEVENT
DTSTART;TZID=Europe/London:20170410T193000
DTEND;TZID=Europe/London:20170410T230000
DTSTAMP:20260420T233022
CREATED:20170202T171327Z
LAST-MODIFIED:20170202T171327Z
UID:2495-1491852600-1491865200@www.bangorrotary.net
SUMMARY:SPECIAL EVENT - Croft Bowling
DESCRIPTION:The return of our much anticipated annual event with Croft Community. More details to follow
URL:https://www.bangorrotary.net/event/special-event-croft-bowling/
LOCATION:Northern Ireland
END:VEVENT
BEGIN:VEVENT
DTSTART;TZID=Europe/London:20170405T140000
DTEND;TZID=Europe/London:20170405T150000
DTSTAMP:20260420T233022
CREATED:20170228T132723Z
LAST-MODIFIED:20170228T132723Z
UID:2542-1491400800-1491404400@www.bangorrotary.net
SUMMARY:Rotary Business Meeting
DESCRIPTION:Business Meeting today\nLunch: Breaded Scampi
URL:https://www.bangorrotary.net/event/rotary-business-meeting-10/
LOCATION:Bangor Golf Club\, Broadway\, BANGOR\, Northern Ireland\, BT20 4RH\, United Kingdom
END:VEVENT
BEGIN:VEVENT
DTSTART;TZID=Europe/London:20170404T200000
DTEND;TZID=Europe/London:20170404T220000
DTSTAMP:20260420T233022
CREATED:20170202T171221Z
LAST-MODIFIED:20170202T171221Z
UID:2493-1491336000-1491343200@www.bangorrotary.net
SUMMARY:SPECIAL EVENT - Schools Concert
DESCRIPTION:Our main event of the Spring Term\, an historic combined schools concert bringing together the musical talents of Bangor Academy\, BGS\, Glenlola and St Comlumbanus for the first time ever.\nDetails to follow.
URL:https://www.bangorrotary.net/event/special-event-schools-concert/
LOCATION:Northern Ireland
END:VEVENT
BEGIN:VEVENT
DTSTART;TZID=Europe/London:20170329T190000
DTEND;TZID=Europe/London:20170329T200000
DTSTAMP:20260420T233022
CREATED:20161230T132559Z
LAST-MODIFIED:20170228T132531Z
UID:2418-1490814000-1490817600@www.bangorrotary.net
SUMMARY:SPECIAL EVENT - Fifth Wednesday Dinner
DESCRIPTION:The second of our three Fifth Wednesday Evenings will be held at the Royal Ulster Yacht Club.\nTheme: Treasure Island
URL:https://www.bangorrotary.net/event/special-event-fifth-wednesday-dinner-2/
LOCATION:Bangor Golf Club\, Broadway\, BANGOR\, Northern Ireland\, BT20 4RH\, United Kingdom
END:VEVENT
BEGIN:VEVENT
DTSTART;TZID=Europe/London:20170322T130000
DTEND;TZID=Europe/London:20170322T140000
DTSTAMP:20260420T233022
CREATED:20161230T132351Z
LAST-MODIFIED:20170303T120328Z
UID:2416-1490187600-1490191200@www.bangorrotary.net
SUMMARY:Rotary Meeting
DESCRIPTION:Speaker: Ken Walsh\, The Sir Samuel Kelly Lifeboat Project\nThe SIR SAMUEL KELLY Lifeboat was built in 1950 by J. Samuel White & Co. Ltd.\, at Cowes\, Isle of Wight. \nOn station at Donaghadee\, Co. Down\, from 1951 until 1976 during which time she was involved with the resuce attempts to the Princess Victoria. \nShe was part of RNLI Reserve Fleet until 1979\, when the vessel was retired and purchased by the Ulster Folk and Transport Museum. \nLunch: Chilli con Carne
URL:https://www.bangorrotary.net/event/rotary-meeting-52/
LOCATION:Bangor Golf Club\, Broadway\, BANGOR\, Northern Ireland\, BT20 4RH\, United Kingdom
END:VEVENT
BEGIN:VEVENT
DTSTART;TZID=Europe/London:20170320T190000
DTEND;TZID=Europe/London:20170320T210000
DTSTAMP:20260420T233022
CREATED:20170202T171936Z
LAST-MODIFIED:20170228T133509Z
UID:2501-1490036400-1490043600@www.bangorrotary.net
SUMMARY:SPECIAL EVENT - Theatre visit
DESCRIPTION:Theatre trip to see\n\n\nHolywood Players production of Humble Boy by Charlotte Jones\n\n\nIn the Space Theatre in SERC\n\n\nPart of the Bangor Drama Festival.\n\n\nRotarians\, family and friends will be very welcome.\n\n\n(Please note that this is an adult play addressing adult themes and using adult language)
URL:https://www.bangorrotary.net/event/special-event-theatre-visit/
LOCATION:Northern Ireland
END:VEVENT
BEGIN:VEVENT
DTSTART;TZID=Europe/London:20170315T180000
DTEND;TZID=Europe/London:20170315T190000
DTSTAMP:20260420T233022
CREATED:20161230T132203Z
LAST-MODIFIED:20170228T132437Z
UID:2413-1489600800-1489604400@www.bangorrotary.net
SUMMARY:Rotary Meeting - Evening Business Series
DESCRIPTION:Speaker: Peter Boyle\, Founder of Argento\nArgento was established in 1997 by founder and family man Peter Boyle\, originally he saw the opportunity to trade modern jewellery at reasonable prices from a market stall in Belfast’s Royal Avenue.\nToday Argento has over 50 stores across the UK and Ireland and an international online store. Pete’s passion for high quality jewellery was the main driving force in the businesses success.\nThe years of experience gained selling jewellery on a small street stall gave him the motivation to create a bright and inviting store where people can come and shop at their leisure\nTea: BBQ Chicken & Pepper Sauce
URL:https://www.bangorrotary.net/event/rotary-meeting-evening-business-series-2/
LOCATION:Bangor Golf Club\, Broadway\, BANGOR\, Northern Ireland\, BT20 4RH\, United Kingdom
END:VEVENT
BEGIN:VEVENT
DTSTART;TZID=Europe/London:20170308T130000
DTEND;TZID=Europe/London:20170308T140000
DTSTAMP:20260420T233022
CREATED:20161230T132108Z
LAST-MODIFIED:20170307T084926Z
UID:2410-1488978000-1488981600@www.bangorrotary.net
SUMMARY:SPECIAL EVENT: International Women's Day
DESCRIPTION:We are celebrating International Women’s Day whose theme in 2017 is I want to be like her –the importance of role models for female leadership.\nGuest panel and invited audience 12 noon – 2.00pm\nThis meeting will be held downstairs in the Golf Club\, while our normal lunch-time meeting proceeds upstairs.\nLunch: Sandwich Plate
URL:https://www.bangorrotary.net/event/special-event-international-womens-day/
LOCATION:Bangor Golf Club\, Broadway\, BANGOR\, Northern Ireland\, BT20 4RH\, United Kingdom
END:VEVENT
BEGIN:VEVENT
DTSTART;TZID=Europe/London:20170301T130000
DTEND;TZID=Europe/London:20170301T140000
DTSTAMP:20260420T233022
CREATED:20161230T131831Z
LAST-MODIFIED:20170228T132338Z
UID:2408-1488373200-1488376800@www.bangorrotary.net
SUMMARY:Rotary Meeting - Business Meeting
DESCRIPTION:Review of the past two months and looking forward to what is planned between now and Easter\nLunch: Gammon & Pineapple
URL:https://www.bangorrotary.net/event/rotary-meeting-business-meeting-4/
LOCATION:Bangor Golf Club\, Broadway\, BANGOR\, Northern Ireland\, BT20 4RH\, United Kingdom
END:VEVENT
BEGIN:VEVENT
DTSTART;TZID=Europe/London:20170222T130000
DTEND;TZID=Europe/London:20170222T140000
DTSTAMP:20260420T233022
CREATED:20161230T131641Z
LAST-MODIFIED:20170207T091040Z
UID:2406-1487768400-1487772000@www.bangorrotary.net
SUMMARY:Rotary Meeting
DESCRIPTION:Speaker: Robin Masefield\, CBE\nA civil servant for 37 years\, in his last post\, Robin Masefield\, CBE\, was Director General of the NI Prison Service.\nRobin will be highlighting the the unique problem with our NI charity legislation and its enforcement; his involvement in its improvement and the need for civic engagement and how we can make progress in a challenging constitutional/ political context!\nRobin has written\, jointly or on his own\, seven books. After retiring in 2010\, he has had more time to indulge in local history\, including Twixt Bay and Burn (the history of Helen’s Bay and Crawfordsburn) in 2011 and Be Careful\, Don’t Rush – Celebrating 150 Years of Train Travel between Holywood and Bangor in 2015.  \nThe previous year Policing in Northern Ireland\, Delivering the New Beginning? co-written with Professor Sir Desmond Rea\, was published.\nHe is now working on the history of Palace Barracks and its links to Holywood.\nHe is a Director/Trustee of various charities including Oxfam Ireland and Holywood Shared Town.\nLunch: Pork Chop & Pepper Sauce
URL:https://www.bangorrotary.net/event/rotary-meeting-51/
LOCATION:Bangor Golf Club\, Broadway\, BANGOR\, Northern Ireland\, BT20 4RH\, United Kingdom
END:VEVENT
BEGIN:VEVENT
DTSTART;TZID=Europe/London:20170221T190000
DTEND;TZID=Europe/London:20170221T200000
DTSTAMP:20260420T233022
CREATED:20170124T131746Z
LAST-MODIFIED:20170124T131746Z
UID:2477-1487703600-1487707200@www.bangorrotary.net
SUMMARY:SPECIAL EVENT: Potential Members Information Evening
DESCRIPTION:An opportunity to invite friends and colleagues to learn more about Rotary.\nThis event is to be held at Royal Ulster Yacht Club (our thanks to Stanton Adair)\nAssistant District Governor\, Roland Bailie\, will be attending.\nThis evening is organised by President Elect James O’Fee.\nPlease ask guests to arrive by 7pm when tea and coffee will be served.\nThere is no cost for this event
URL:https://www.bangorrotary.net/event/special-event-potential-members-information-evening/
LOCATION:Northern Ireland
END:VEVENT
BEGIN:VEVENT
DTSTART;TZID=Europe/London:20170215T180000
DTEND;TZID=Europe/London:20170215T190000
DTSTAMP:20260420T233022
CREATED:20161230T131544Z
LAST-MODIFIED:20170124T131152Z
UID:2404-1487181600-1487185200@www.bangorrotary.net
SUMMARY:Rotary Meeting - Evening Business Series
DESCRIPTION:Our Speaker – Patrick Roberts\nPatrick Roberts has been Managing Director of Whale (Munster Simms Engineering Ltd ) for just over 2 years.  Prior to that Patrick held the post of MD of Operations at Whale for two years.  During his career Patrick has also worked  for Bombardier for 5 years where he held several procurement\, supply and logistics positions.  During his career Patrick has developed specialist skills in leadership and operational excellence.\nPatrick will discuss Whale’s history which began in 1810.  He will cover some of the company’s most recent successes and finish with the plans to take the company into the future\nTea: Battered Haddock
URL:https://www.bangorrotary.net/event/rotary-meeting-evening-business-series/
LOCATION:Bangor Golf Club\, Broadway\, BANGOR\, Northern Ireland\, BT20 4RH\, United Kingdom
END:VEVENT
BEGIN:VEVENT
DTSTART;TZID=Europe/London:20170208T130000
DTEND;TZID=Europe/London:20170208T140000
DTSTAMP:20260420T233022
CREATED:20161230T131444Z
LAST-MODIFIED:20170109T091154Z
UID:2402-1486558800-1486562400@www.bangorrotary.net
SUMMARY:Rotary Meeting
DESCRIPTION:Speaker:  An old friend of Bangor Rotary\, Brian Meharg MBE will be joining us to show a very good short film on Mercedes Gleitz\, the celebrity swimmer of the 20s and 30s who made several unsuccessful attempts to swim Donaghadee/Portpatrick.\nLunch: Roast Turkey & Ham
URL:https://www.bangorrotary.net/event/rotary-meeting-50/
LOCATION:Bangor Golf Club\, Broadway\, BANGOR\, Northern Ireland\, BT20 4RH\, United Kingdom
END:VEVENT
BEGIN:VEVENT
DTSTART;TZID=Europe/London:20170201T130000
DTEND;TZID=Europe/London:20170201T140000
DTSTAMP:20260420T233022
CREATED:20161212T094356Z
LAST-MODIFIED:20161230T131346Z
UID:2375-1485954000-1485957600@www.bangorrotary.net
SUMMARY:Rotary Meeting - Business Meeting
DESCRIPTION:Business meeting\nLunch: Pan-seared Chicken and Pepper Sauce
URL:https://www.bangorrotary.net/event/rotary-meeting-business-meeting-3/
LOCATION:Bangor Golf Club\, Broadway\, BANGOR\, Northern Ireland\, BT20 4RH\, United Kingdom
END:VEVENT
BEGIN:VEVENT
DTSTART;TZID=Europe/London:20170125T130000
DTEND;TZID=Europe/London:20170125T140000
DTSTAMP:20260420T233022
CREATED:20161212T094123Z
LAST-MODIFIED:20161230T131316Z
UID:2374-1485349200-1485352800@www.bangorrotary.net
SUMMARY:Rotary Meeting - Celebrating Robbie Burns
DESCRIPTION:Robbie Burns guru Mark Thompson will help us prepare for Burns Night\nLunch: Gammon and Pineapple
URL:https://www.bangorrotary.net/event/rotary-meeting-celebrating-robbie-burns/
LOCATION:Bangor Golf Club\, Broadway\, BANGOR\, Northern Ireland\, BT20 4RH\, United Kingdom
END:VEVENT
BEGIN:VEVENT
DTSTART;TZID=Europe/London:20170118T180000
DTEND;TZID=Europe/London:20170118T190000
DTSTAMP:20260420T233022
CREATED:20161212T093933Z
LAST-MODIFIED:20170112T164014Z
UID:2373-1484762400-1484766000@www.bangorrotary.net
SUMMARY:Rotary Meeting
DESCRIPTION:Agenda: The induction of Margaret Francey as a new member and the launch of our Lend With Care Project. Click here for more information\nTea: Roast Beef and Yorkshire Pudding
URL:https://www.bangorrotary.net/event/rotary-meeting-49/
LOCATION:Bangor Golf Club\, Broadway\, BANGOR\, Northern Ireland\, BT20 4RH\, United Kingdom
END:VEVENT
BEGIN:VEVENT
DTSTART;TZID=Europe/London:20170111T130000
DTEND;TZID=Europe/London:20170111T140000
DTSTAMP:20260420T233022
CREATED:20161212T093827Z
LAST-MODIFIED:20161230T130350Z
UID:2372-1484139600-1484143200@www.bangorrotary.net
SUMMARY:Rotary Meeting - Elderly cricket
DESCRIPTION:John Elder\, ex-international cricketer\,  on his web venture www.cricketeurope.net\nLunch: Chicken Goujons
URL:https://www.bangorrotary.net/event/john-elder-speaker/
LOCATION:Bangor Golf Club\, Broadway\, BANGOR\, Northern Ireland\, BT20 4RH\, United Kingdom
END:VEVENT
BEGIN:VEVENT
DTSTART;TZID=Europe/London:20170104T010000
DTEND;TZID=Europe/London:20170104T140000
DTSTAMP:20260420T233022
CREATED:20161212T093607Z
LAST-MODIFIED:20161230T132235Z
UID:2371-1483491600-1483538400@www.bangorrotary.net
SUMMARY:Rotary Meeting - Business Meeting
DESCRIPTION:HAPPY NEW YEAR!\nWe kick-off the New Year with an exciting programme from now until Easter (Spring Term) and we will outline all of that at this meeting. So don’t miss it!\nLunch: Lasagne
URL:https://www.bangorrotary.net/event/rotary-business-meeting-new-members-inductions/
LOCATION:Bangor Golf Club\, Broadway\, BANGOR\, Northern Ireland\, BT20 4RH\, United Kingdom
END:VEVENT
BEGIN:VEVENT
DTSTART;TZID=Europe/London:20161228T080000
DTEND;TZID=Europe/London:20161228T170000
DTSTAMP:20260420T233022
CREATED:20161128T100958Z
LAST-MODIFIED:20161220T160624Z
UID:2343-1482912000-1482944400@www.bangorrotary.net
SUMMARY:No Meeting Today - HAPPY NEW YEAR
DESCRIPTION:No Meeting Today. Happy New Year
URL:https://www.bangorrotary.net/event/no-meeting-today-2/
LOCATION:Bangor Golf Club\, Broadway\, BANGOR\, Northern Ireland\, BT20 4RH\, United Kingdom
END:VEVENT
BEGIN:VEVENT
DTSTART;TZID=Europe/London:20161221T080000
DTEND;TZID=Europe/London:20161221T170000
DTSTAMP:20260420T233022
CREATED:20161128T100911Z
LAST-MODIFIED:20161220T160549Z
UID:2342-1482307200-1482339600@www.bangorrotary.net
SUMMARY:No Meeting Today - MERRY CHRISTMAS!
DESCRIPTION:No Meeting today. Have a wonderful Christmas!
URL:https://www.bangorrotary.net/event/no-meeting-today/
LOCATION:Bangor Golf Club\, Broadway\, BANGOR\, Northern Ireland\, BT20 4RH\, United Kingdom
END:VEVENT
END:VCALENDAR