BEGIN:VCALENDAR
VERSION:2.0
PRODID:-// - ECPv6.15.20//NONSGML v1.0//EN
CALSCALE:GREGORIAN
METHOD:PUBLISH
X-ORIGINAL-URL:https://www.bangorrotary.net
X-WR-CALDESC:Events for 
REFRESH-INTERVAL;VALUE=DURATION:PT1H
X-Robots-Tag:noindex
X-PUBLISHED-TTL:PT1H
BEGIN:VTIMEZONE
TZID:Europe/London
BEGIN:DAYLIGHT
TZOFFSETFROM:+0000
TZOFFSETTO:+0100
TZNAME:BST
DTSTART:20160327T010000
END:DAYLIGHT
BEGIN:STANDARD
TZOFFSETFROM:+0100
TZOFFSETTO:+0000
TZNAME:GMT
DTSTART:20161030T010000
END:STANDARD
BEGIN:DAYLIGHT
TZOFFSETFROM:+0000
TZOFFSETTO:+0100
TZNAME:BST
DTSTART:20170326T010000
END:DAYLIGHT
BEGIN:STANDARD
TZOFFSETFROM:+0100
TZOFFSETTO:+0000
TZNAME:GMT
DTSTART:20171029T010000
END:STANDARD
BEGIN:DAYLIGHT
TZOFFSETFROM:+0000
TZOFFSETTO:+0100
TZNAME:BST
DTSTART:20180325T010000
END:DAYLIGHT
BEGIN:STANDARD
TZOFFSETFROM:+0100
TZOFFSETTO:+0000
TZNAME:GMT
DTSTART:20181028T010000
END:STANDARD
END:VTIMEZONE
BEGIN:VEVENT
DTSTART;TZID=Europe/London:20171011T140000
DTEND;TZID=Europe/London:20171011T150000
DTSTAMP:20260421T003421
CREATED:20170912T092859Z
LAST-MODIFIED:20170912T092859Z
UID:3008-1507730400-1507734000@www.bangorrotary.net
SUMMARY:Visit of DG
DESCRIPTION:Visit of District Governor Garth Arnold\nLunch: Pork Chops with Pepper Sauce
URL:https://www.bangorrotary.net/event/visit-of-dg/
LOCATION:Bangor Golf Club\, Broadway\, BANGOR\, Northern Ireland\, BT20 4RH\, United Kingdom
END:VEVENT
BEGIN:VEVENT
DTSTART;TZID=Europe/London:20171004T140000
DTEND;TZID=Europe/London:20171004T150000
DTSTAMP:20260421T003421
CREATED:20170912T092732Z
LAST-MODIFIED:20170912T092732Z
UID:3006-1507125600-1507129200@www.bangorrotary.net
SUMMARY:Rotary Business Meeting
DESCRIPTION:Lunch: Roast Turkey and Ham
URL:https://www.bangorrotary.net/event/rotary-business-meeting-13/
LOCATION:Bangor Golf Club\, Broadway\, BANGOR\, Northern Ireland\, BT20 4RH\, United Kingdom
END:VEVENT
BEGIN:VEVENT
DTSTART;TZID=Europe/London:20170927T130000
DTEND;TZID=Europe/London:20170927T150000
DTSTAMP:20260421T003421
CREATED:20170821T093908Z
LAST-MODIFIED:20170821T093958Z
UID:2994-1506517200-1506524400@www.bangorrotary.net
SUMMARY:SPECIAL EVENT: Visit to Kingspan Stadium
DESCRIPTION:Today we enjoy a tour of Kingspan Stadium\, the home of Ulster Rugby.\nDetails to follow
URL:https://www.bangorrotary.net/event/special-event-visit-to-kingspan-stadium/
LOCATION:Bangor Golf Club\, Broadway\, BANGOR\, Northern Ireland\, BT20 4RH\, United Kingdom
END:VEVENT
BEGIN:VEVENT
DTSTART;TZID=Europe/London:20170920T190000
DTEND;TZID=Europe/London:20170920T200000
DTSTAMP:20260421T003421
CREATED:20170720T070932Z
LAST-MODIFIED:20170912T101241Z
UID:2906-1505934000-1505937600@www.bangorrotary.net
SUMMARY:Evening Speakers Series
DESCRIPTION:Jason Webster from Randox Laboratory on illness detection\nThe Randox organisation is a global leader in medical diagnostics. It was founded in Crumlin\, Co. Antrim and now has offices in 20 countries. International sales are in the region of £1bn per annum.\n\nRandox Health is a recent development bringing wellbeing programmes directly to the public. Innovative technology and tests are used to optimise health and prevent future illness. I have a list of 29 ‘situations’ which can be investigated. Heart and kidney health\, diabetes\, allergy evaluation and iron status are just a few to mention which\, I hope\, will encourage you to attend and hear more.\n\nAll Rotarians are ecouraged to come along\, also spouses/partners who will also find the evening interesting. If you do intend to bring a family member or guest it would be helpful to inform Roy Rosbotham who will advise the caterer of the additional numbers expected.\nTea: Gammon with Parsley Sauce
URL:https://www.bangorrotary.net/event/evening-speakers-series/
LOCATION:Bangor Golf Club\, Broadway\, BANGOR\, Northern Ireland\, BT20 4RH\, United Kingdom
END:VEVENT
BEGIN:VEVENT
DTSTART;TZID=Europe/London:20170913T140000
DTEND;TZID=Europe/London:20170913T150000
DTSTAMP:20260421T003421
CREATED:20170804T070942Z
LAST-MODIFIED:20170821T093654Z
UID:2948-1505311200-1505314800@www.bangorrotary.net
SUMMARY:Rotary Meeting
DESCRIPTION:Mayor of Ards and North Down Councillor Robert Adair will visit the Club to update us on his year to date\nLunch: Breaded Scampi
URL:https://www.bangorrotary.net/event/rotary-meeting-56/
LOCATION:Bangor Golf Club\, Broadway\, BANGOR\, Northern Ireland\, BT20 4RH\, United Kingdom
END:VEVENT
BEGIN:VEVENT
DTSTART;TZID=Europe/London:20170906T140000
DTEND;TZID=Europe/London:20170906T150000
DTSTAMP:20260421T003421
CREATED:20170626T155002Z
LAST-MODIFIED:20170821T093615Z
UID:2868-1504706400-1504710000@www.bangorrotary.net
SUMMARY:Rotary Business Meeting
DESCRIPTION:We’re off and running on another Rotary Year Adventure!\nLunch: BAr B Que Chicken with Pepper Sauce
URL:https://www.bangorrotary.net/event/rotary-business-meeting-12/
LOCATION:Bangor Golf Club\, Broadway\, BANGOR\, Northern Ireland\, BT20 4RH\, United Kingdom
END:VEVENT
BEGIN:VEVENT
DTSTART;TZID=Europe/London:20170830T140000
DTEND;TZID=Europe/London:20170830T150000
DTSTAMP:20260421T003421
CREATED:20170626T154857Z
LAST-MODIFIED:20170821T093539Z
UID:2866-1504101600-1504105200@www.bangorrotary.net
SUMMARY:Rotary Meeting
DESCRIPTION:Rotarian Margaret Francey to speak to us about her career as an interpreter at the EU\, rising to become Head of the Portugese Language Section of the Commission’s Interpreting Service.\nLunch: Summer Salad!
URL:https://www.bangorrotary.net/event/rotary-lunch-7/
LOCATION:Bangor Golf Club\, Broadway\, BANGOR\, Northern Ireland\, BT20 4RH\, United Kingdom
END:VEVENT
BEGIN:VEVENT
DTSTART;TZID=Europe/London:20170823T090000
DTEND;TZID=Europe/London:20170823T180000
DTSTAMP:20260421T003421
CREATED:20170626T154801Z
LAST-MODIFIED:20170626T154814Z
UID:2864-1503478800-1503511200@www.bangorrotary.net
SUMMARY:No Meeting
DESCRIPTION:No Meeting today due to visit to Dublin yesterday!
URL:https://www.bangorrotary.net/event/no-meeting/
END:VEVENT
BEGIN:VEVENT
DTSTART;VALUE=DATE:20170822
DTEND;VALUE=DATE:20170824
DTSTAMP:20260421T003421
CREATED:20170626T154720Z
LAST-MODIFIED:20170628T092013Z
UID:2862-1503363600-1503449999@www.bangorrotary.net
SUMMARY:SPECIAL EVENT - Visit to Dublin North Rotary Club
DESCRIPTION:We are hoping to visit our friends at Dublin North Rotary Club today.\nBy train: 0800 from Belfast Central (link trains from Bangor 0717 arriving Central 0748 or 0731 Express arriving Central 0753) arriving Dublin Connolly 1005. DART to Howth where we will be met by President Jack and Dublin North members\, followed by a tour of Howth Castle and lunch at 1300 in the Marine Hotel\, Sutton.\nBy car either direct to Howth for the tour or the Marine Hotel\, Sutton\, for 1300.\nReturning trains from Connolly 1520\, 1650\, 1850\, 2050\nRefined details concerning rendez-vous points for those in cars will emerge in due course.\n\nNo meeting on Wednesday 23rd August
URL:https://www.bangorrotary.net/event/special-event-visit-to-dublin-north-rotary-club/
END:VEVENT
BEGIN:VEVENT
DTSTART;TZID=Europe/London:20170816T140000
DTEND;TZID=Europe/London:20170816T150000
DTSTAMP:20260421T003421
CREATED:20170626T154529Z
LAST-MODIFIED:20170731T075324Z
UID:2860-1502892000-1502895600@www.bangorrotary.net
SUMMARY:Rotary Lunch
DESCRIPTION:Summer schedule.\nRotarian Nicola Hinds will update us on her recent work with ShelterBox in Mozambique\nLunch: Summer Salad
URL:https://www.bangorrotary.net/event/rotary-lunch-6/
LOCATION:Bangor Golf Club\, Broadway\, BANGOR\, Northern Ireland\, BT20 4RH\, United Kingdom
END:VEVENT
BEGIN:VEVENT
DTSTART;TZID=Europe/London:20170809T140000
DTEND;TZID=Europe/London:20170809T150000
DTSTAMP:20260421T003421
CREATED:20170626T154445Z
LAST-MODIFIED:20170805T135303Z
UID:2858-1502287200-1502290800@www.bangorrotary.net
SUMMARY:Rotary Lunch
DESCRIPTION:Summer schedule.\nInduction of new member\, Roddy Boyd\, and welcoming of Rotarian John Kerr\, previously a member of the Belfast Club but now joining Bangor.\nLunch: Summer Salad
URL:https://www.bangorrotary.net/event/rotary-lunch-5/
LOCATION:Bangor Golf Club\, Broadway\, BANGOR\, Northern Ireland\, BT20 4RH\, United Kingdom
END:VEVENT
BEGIN:VEVENT
DTSTART;TZID=Europe/London:20170802T140000
DTEND;TZID=Europe/London:20170802T150000
DTSTAMP:20260421T003421
CREATED:20170626T154408Z
LAST-MODIFIED:20170731T074518Z
UID:2856-1501682400-1501686000@www.bangorrotary.net
SUMMARY:Rotary Lunch
DESCRIPTION:Summer schedule.\nRotarian Jane Morrice will speak on her present role as Vice President European Economic and Social Committee (EESC)\nLunch: Summer Salad
URL:https://www.bangorrotary.net/event/rotary-lunch-4/
LOCATION:Bangor Golf Club\, Broadway\, BANGOR\, Northern Ireland\, BT20 4RH\, United Kingdom
END:VEVENT
BEGIN:VEVENT
DTSTART;TZID=Europe/London:20170726T140000
DTEND;TZID=Europe/London:20170726T150000
DTSTAMP:20260421T003421
CREATED:20170626T154230Z
LAST-MODIFIED:20170628T092229Z
UID:2852-1501077600-1501081200@www.bangorrotary.net
SUMMARY:Rotary Lunch
DESCRIPTION:Summer schedule.\nMeeting at 1pm for craic\, speakers and a little business!\nSpeaker: Evan Fleming\, a young local Scout Leader\, will address us on his experiences in Scouting\nLunch: Summer Salad
URL:https://www.bangorrotary.net/event/rotary-lunch-3/
LOCATION:Bangor Golf Club\, Broadway\, BANGOR\, Northern Ireland\, BT20 4RH\, United Kingdom
END:VEVENT
BEGIN:VEVENT
DTSTART;TZID=Europe/London:20170719T140000
DTEND;TZID=Europe/London:20170719T150000
DTSTAMP:20260421T003421
CREATED:20170626T154151Z
LAST-MODIFIED:20170628T092143Z
UID:2850-1500472800-1500476400@www.bangorrotary.net
SUMMARY:Rotary Lunch
DESCRIPTION:Summer schedule.\nMeeting at 1pm for craic\, speakers and a little business!\nInduction of Dr Kris Baraniuk\nLunch: Summer Salad
URL:https://www.bangorrotary.net/event/rotary-lunch-2/
LOCATION:Bangor Golf Club\, Broadway\, BANGOR\, Northern Ireland\, BT20 4RH\, United Kingdom
END:VEVENT
BEGIN:VEVENT
DTSTART;TZID=Europe/London:20170712T140000
DTEND;TZID=Europe/London:20170712T150000
DTSTAMP:20260421T003421
CREATED:20170626T154113Z
LAST-MODIFIED:20170626T154113Z
UID:2848-1499868000-1499871600@www.bangorrotary.net
SUMMARY:No meeting today
DESCRIPTION:
URL:https://www.bangorrotary.net/event/no-meeting-today-4/
LOCATION:Bangor Golf Club\, Broadway\, BANGOR\, Northern Ireland\, BT20 4RH\, United Kingdom
END:VEVENT
BEGIN:VEVENT
DTSTART;TZID=Europe/London:20170705T140000
DTEND;TZID=Europe/London:20170705T150000
DTSTAMP:20260421T003421
CREATED:20170626T154031Z
LAST-MODIFIED:20170628T092106Z
UID:2846-1499263200-1499266800@www.bangorrotary.net
SUMMARY:Rotary Lunch
DESCRIPTION:Summer schedule.\nMeeting at 1pm for craic\, speakers and a little business!\nSpeaker: Mate Zoltan\, who won the Bangor Grammar School heat of the Youth Leadership Competition\, will speak to us on a future project.\nLunch: Summer Salad
URL:https://www.bangorrotary.net/event/rotary-lunch/
LOCATION:Bangor Golf Club\, Broadway\, BANGOR\, Northern Ireland\, BT20 4RH\, United Kingdom
END:VEVENT
BEGIN:VEVENT
DTSTART;TZID=Europe/London:20170628T140000
DTEND;TZID=Europe/London:20170628T150000
DTSTAMP:20260421T003421
CREATED:20170405T143017Z
LAST-MODIFIED:20170519T102445Z
UID:2670-1498658400-1498662000@www.bangorrotary.net
SUMMARY:Handover Day
DESCRIPTION:Due to holidays and other commitments\, this year’s Handover Day will be a little earlier than usual as President James O’Fee takes the tiller and leads us into another exciting year in the life of the Rotary Club of Bangor.\nLunch: Grilled Hake
URL:https://www.bangorrotary.net/event/handover-day/
LOCATION:Bangor Golf Club\, Broadway\, BANGOR\, Northern Ireland\, BT20 4RH\, United Kingdom
END:VEVENT
BEGIN:VEVENT
DTSTART;TZID=Europe/London:20170621T200000
DTEND;TZID=Europe/London:20170621T230000
DTSTAMP:20260421T003421
CREATED:20170420T133948Z
LAST-MODIFIED:20170614T071601Z
UID:2693-1498075200-1498086000@www.bangorrotary.net
SUMMARY:SPECIAL EVENT: President's Night Dinner
DESCRIPTION:Aloha!\nThis year President’s Night will have an Hawaiian Theme and members and guests are encouraged – but by no means required – to wear an Hawaiian shirt and enjoy the spirit of the evening. There will be a special prize for the most impressive shirt!\nBeginning with a drinks reception at 7pm\, dinner will be served at 7:30pm.\nThe cost per person for this Pacific pleasure is £12.50 per person.\n\nPlease let PE James know you will be attending by Friday 16th June.\n\n 
URL:https://www.bangorrotary.net/event/rotary-meeting-55/
LOCATION:Bangor Golf Club\, Broadway\, BANGOR\, Northern Ireland\, BT20 4RH\, United Kingdom
END:VEVENT
BEGIN:VEVENT
DTSTART;TZID=Europe/London:20170614T140000
DTEND;TZID=Europe/London:20170614T150000
DTSTAMP:20260421T003421
CREATED:20170405T143138Z
LAST-MODIFIED:20170614T065604Z
UID:2672-1497448800-1497452400@www.bangorrotary.net
SUMMARY:Rotary Meeting Today (change of schedule)
DESCRIPTION:As the Coach Trip scheduled for June 13th has been cancelled\, we will now enjoy lunch together today.\nPatrick Cregg MBE\nNoelle Robinson\nTwo new members to be inducted today: Patrick Cregg MBE and Noelle Robinson\, Councillor so a full room of Rotarians would be a great start to their membership. (Please note that Princess Anne is not joining today\, although I understand PE James has been in touch!)\nLunch: TBA
URL:https://www.bangorrotary.net/event/no-meeting-today-3/
LOCATION:Bangor Golf Club\, Broadway\, BANGOR\, Northern Ireland\, BT20 4RH\, United Kingdom
END:VEVENT
BEGIN:VEVENT
DTSTART;TZID=Europe/London:20170613T103000
DTEND;TZID=Europe/London:20170613T180000
DTSTAMP:20260421T003421
CREATED:20170405T142706Z
LAST-MODIFIED:20170606T063014Z
UID:2668-1497349800-1497376800@www.bangorrotary.net
SUMMARY:Bangor Rotary on the Road - CANCELLED
DESCRIPTION:Please note that the planned coach trip to Exploris has been cancelled and that the weekly meeting on Wednesday 14th has been reinstated.
URL:https://www.bangorrotary.net/event/bangor-rotary-on-the-road/
LOCATION:Bangor Golf Club\, Broadway\, BANGOR\, Northern Ireland\, BT20 4RH\, United Kingdom
END:VEVENT
BEGIN:VEVENT
DTSTART;TZID=Europe/London:20170607T140000
DTEND;TZID=Europe/London:20170607T150000
DTSTAMP:20260421T003421
CREATED:20170405T142332Z
LAST-MODIFIED:20170519T102333Z
UID:2666-1496844000-1496847600@www.bangorrotary.net
SUMMARY:Rotary Business Meeting
DESCRIPTION:Business Meeting today\nLunch: Turkey & Ham
URL:https://www.bangorrotary.net/event/extra-special-event-business-meeting/
LOCATION:Bangor Golf Club\, Broadway\, BANGOR\, Northern Ireland\, BT20 4RH\, United Kingdom
END:VEVENT
BEGIN:VEVENT
DTSTART;TZID=Europe/London:20170531T140000
DTEND;TZID=Europe/London:20170531T150000
DTSTAMP:20260421T003421
CREATED:20170405T142111Z
LAST-MODIFIED:20170509T090437Z
UID:2664-1496239200-1496242800@www.bangorrotary.net
SUMMARY:SPECIAL EVENT: Club Assembly
DESCRIPTION:This is the rescheduled Club Assembly when we will discover what President Elect James has in store for us as we look forward to the new Rotary year.\n** Please note that this is a lunchtime meeting **\nThe Fifth Wednesday Dinner has now been CANCELLED
URL:https://www.bangorrotary.net/event/special-event-fifth-wednesday-dinner-3/
LOCATION:Bangor Golf Club\, Broadway\, BANGOR\, Northern Ireland\, BT20 4RH\, United Kingdom
END:VEVENT
BEGIN:VEVENT
DTSTART;TZID=Europe/London:20170524T140000
DTEND;TZID=Europe/London:20170524T150000
DTSTAMP:20260421T003421
CREATED:20170202T171550Z
LAST-MODIFIED:20170420T133705Z
UID:2497-1495634400-1495638000@www.bangorrotary.net
SUMMARY:SPECIAL EVENT - Distribution of raised funds
DESCRIPTION:We will be inviting a representative from each of the organisations we have agreed to support during the year to join us for this Gala Luncheon.\nMore information to follow\n(Photys will be tuk – so wear your best bib-and-tucker!)\nLunch: Breaded Scampi
URL:https://www.bangorrotary.net/event/special-event-distribution-of-raised-funds/
LOCATION:Bangor Golf Club\, Broadway\, BANGOR\, Northern Ireland\, BT20 4RH\, United Kingdom
END:VEVENT
BEGIN:VEVENT
DTSTART;TZID=Europe/London:20170517T203000
DTEND;TZID=Europe/London:20170517T223000
DTSTAMP:20260421T003421
CREATED:20170322T103857Z
LAST-MODIFIED:20170515T063716Z
UID:2637-1495053000-1495060200@www.bangorrotary.net
SUMMARY:SPECIAL EVENT - Table Quiz
DESCRIPTION:Gather your own team of four or six eggheads to take on the challenge of our Table Quiz ’17!\nLight food served this evening\n£5 per person.\nOrganised by PP Bill Aiken
URL:https://www.bangorrotary.net/event/special-event-table-quiz/
LOCATION:Bangor Golf Club\, Broadway\, BANGOR\, Northern Ireland\, BT20 4RH\, United Kingdom
END:VEVENT
BEGIN:VEVENT
DTSTART;TZID=Europe/London:20170510T010000
DTEND;TZID=Europe/London:20170510T010000
DTSTAMP:20260421T003421
CREATED:20170322T104703Z
LAST-MODIFIED:20170509T090618Z
UID:2646-1494378000-1494378000@www.bangorrotary.net
SUMMARY:Rotary Update - no meeting today
DESCRIPTION:On the sad news of the death of our Past President Harry McDonough\, and the scheduling of his funeral today\, there is no meeting.\nAs a Club we will miss our friend desperately and our thoughts are with Marjorie and his family.\nThe funeral arrangements are\n\n\nWednesday 10th May\n\n\n12:30\n\n\nSt John’s Church of Ireland Church\, 13 Fort Road\, Helen’s Bay\, BT19 1LA\n\n\n\nClub Assembly which was scheduled to be held on this date has now been rescheduled for\n\n\n1pm\n\n\nWednesday 31st 2017\n\n\nThe Fifth Wednesday Dinner has now been cancelled\n\n\n 
URL:https://www.bangorrotary.net/event/rotary-meeting-club-assembly/
LOCATION:Bangor Golf Club\, Broadway\, BANGOR\, Northern Ireland\, BT20 4RH\, United Kingdom
END:VEVENT
BEGIN:VEVENT
DTSTART;TZID=Europe/London:20170503T140000
DTEND;TZID=Europe/London:20170503T143000
DTSTAMP:20260421T003421
CREATED:20170322T104137Z
LAST-MODIFIED:20170420T133552Z
UID:2642-1493820000-1493821800@www.bangorrotary.net
SUMMARY:Rotary Business Meeting
DESCRIPTION:Be a part of the excitement!\nLunch: Roast Beef
URL:https://www.bangorrotary.net/event/rotary-business-meeting-11/
LOCATION:Bangor Golf Club\, Broadway\, BANGOR\, Northern Ireland\, BT20 4RH\, United Kingdom
END:VEVENT
BEGIN:VEVENT
DTSTART;TZID=Europe/London:20170426T140000
DTEND;TZID=Europe/London:20170426T150000
DTSTAMP:20260421T003421
CREATED:20170322T104534Z
LAST-MODIFIED:20170322T104534Z
UID:2644-1493215200-1493218800@www.bangorrotary.net
SUMMARY:Rotary Meeting - AGM
DESCRIPTION:A review of the year financially\, socially\, successfully and spiritually!\nLunch: TBD
URL:https://www.bangorrotary.net/event/rotary-meeting-agm/
LOCATION:Bangor Golf Club\, Broadway\, BANGOR\, Northern Ireland\, BT20 4RH\, United Kingdom
END:VEVENT
BEGIN:VEVENT
DTSTART;TZID=Europe/London:20170419T140000
DTEND;TZID=Europe/London:20170419T150000
DTSTAMP:20260421T003421
CREATED:20170228T133000Z
LAST-MODIFIED:20170412T071358Z
UID:2546-1492610400-1492614000@www.bangorrotary.net
SUMMARY:SPECIAL EVENT: Archives Review Day
DESCRIPTION:There is no formal meeting today\, but we have agreed to bring all of our Archives together in one place and use this meeting to cull the piles we have retaining the important papers and shredding the remainder.\nLunch: No lunch will be served. Members can order from the bar if required.
URL:https://www.bangorrotary.net/event/rotary-meeting-54/
END:VEVENT
BEGIN:VEVENT
DTSTART;TZID=Europe/London:20170412T140000
DTEND;TZID=Europe/London:20170412T150000
DTSTAMP:20260421T003421
CREATED:20170228T132823Z
LAST-MODIFIED:20170412T071421Z
UID:2544-1492005600-1492009200@www.bangorrotary.net
SUMMARY:Rotary Meeting
DESCRIPTION:Speaker: Dennis MacNeice of Bangor Drama Club. Many members will know Dennis who will update us on all the exciting progress with the Club’s new home in the former Good Templar Hall\, and their future plans.\nLunch: Ham and Parsley Sauce
URL:https://www.bangorrotary.net/event/rotary-meeting-53/
LOCATION:Bangor Golf Club\, Broadway\, BANGOR\, Northern Ireland\, BT20 4RH\, United Kingdom
END:VEVENT
BEGIN:VEVENT
DTSTART;TZID=Europe/London:20170410T193000
DTEND;TZID=Europe/London:20170410T230000
DTSTAMP:20260421T003421
CREATED:20170202T171327Z
LAST-MODIFIED:20170202T171327Z
UID:2495-1491852600-1491865200@www.bangorrotary.net
SUMMARY:SPECIAL EVENT - Croft Bowling
DESCRIPTION:The return of our much anticipated annual event with Croft Community. More details to follow
URL:https://www.bangorrotary.net/event/special-event-croft-bowling/
END:VEVENT
END:VCALENDAR