BEGIN:VCALENDAR
VERSION:2.0
PRODID:-// - ECPv6.15.20//NONSGML v1.0//EN
CALSCALE:GREGORIAN
METHOD:PUBLISH
X-ORIGINAL-URL:https://www.bangorrotary.net
X-WR-CALDESC:Events for 
REFRESH-INTERVAL;VALUE=DURATION:PT1H
X-Robots-Tag:noindex
X-PUBLISHED-TTL:PT1H
BEGIN:VTIMEZONE
TZID:Europe/London
BEGIN:DAYLIGHT
TZOFFSETFROM:+0000
TZOFFSETTO:+0100
TZNAME:BST
DTSTART:20160327T010000
END:DAYLIGHT
BEGIN:STANDARD
TZOFFSETFROM:+0100
TZOFFSETTO:+0000
TZNAME:GMT
DTSTART:20161030T010000
END:STANDARD
BEGIN:DAYLIGHT
TZOFFSETFROM:+0000
TZOFFSETTO:+0100
TZNAME:BST
DTSTART:20170326T010000
END:DAYLIGHT
BEGIN:STANDARD
TZOFFSETFROM:+0100
TZOFFSETTO:+0000
TZNAME:GMT
DTSTART:20171029T010000
END:STANDARD
BEGIN:DAYLIGHT
TZOFFSETFROM:+0000
TZOFFSETTO:+0100
TZNAME:BST
DTSTART:20180325T010000
END:DAYLIGHT
BEGIN:STANDARD
TZOFFSETFROM:+0100
TZOFFSETTO:+0000
TZNAME:GMT
DTSTART:20181028T010000
END:STANDARD
BEGIN:DAYLIGHT
TZOFFSETFROM:+0000
TZOFFSETTO:+0100
TZNAME:BST
DTSTART:20190331T010000
END:DAYLIGHT
BEGIN:STANDARD
TZOFFSETFROM:+0100
TZOFFSETTO:+0000
TZNAME:GMT
DTSTART:20191027T010000
END:STANDARD
END:VTIMEZONE
BEGIN:VEVENT
DTSTART;TZID=Europe/London:20180425T190000
DTEND;TZID=Europe/London:20180425T200000
DTSTAMP:20260420T152544
CREATED:20180312T105340Z
LAST-MODIFIED:20180416T081031Z
UID:3315-1524682800-1524686400@www.bangorrotary.net
SUMMARY:Rotary Meeting
DESCRIPTION:Evening meeting –  two for the price of one!\n\n\nJack Watson MBE – ‘The day I visited the Queen’\n\n\nMargaret Francey – Update on the ongoing success of the Lendwithcare Scheme\n\n\nTea: Pan Seared Chicken with Mushroom Sauce
URL:https://www.bangorrotary.net/event/rotary-meeting-67/
LOCATION:Bangor Golf Club\, Broadway\, BANGOR\, Northern Ireland\, BT20 4RH\, United Kingdom
END:VEVENT
BEGIN:VEVENT
DTSTART;TZID=Europe/London:20180418T143000
DTEND;TZID=Europe/London:20180418T153000
DTSTAMP:20260420T152544
CREATED:20180312T105241Z
LAST-MODIFIED:20180416T091822Z
UID:3313-1524061800-1524065400@www.bangorrotary.net
SUMMARY:SPECIAL EVENT: Visit by Dublin North Rotary Club
DESCRIPTION:Visit by Dublin North Rotary Club\nLunch: Grilled Hake with White Wine Sauce
URL:https://www.bangorrotary.net/event/rotary-meeting-66/
LOCATION:Bangor Golf Club\, Broadway\, BANGOR\, Northern Ireland\, BT20 4RH\, United Kingdom
END:VEVENT
BEGIN:VEVENT
DTSTART;TZID=Europe/London:20180416T200000
DTEND;TZID=Europe/London:20180416T230000
DTSTAMP:20260420T152544
CREATED:20180312T110433Z
LAST-MODIFIED:20180322T122927Z
UID:3331-1523908800-1523919600@www.bangorrotary.net
SUMMARY:SPECIAL EVENT - Croft Bowling
DESCRIPTION:We hold our annual Croft Bowling outing this evening. Organised by PP John Gray\, details will follow.
URL:https://www.bangorrotary.net/event/special-event-croft-bowling-2/
LOCATION:Northern Ireland
END:VEVENT
BEGIN:VEVENT
DTSTART;TZID=Europe/London:20180411T140000
DTEND;TZID=Europe/London:20180411T150000
DTSTAMP:20260420T152544
CREATED:20180312T105141Z
LAST-MODIFIED:20180329T135252Z
UID:3311-1523455200-1523458800@www.bangorrotary.net
SUMMARY:Rotary Business Meeting
DESCRIPTION:Rotary Business Meeting\nLunch: Roast Beef
URL:https://www.bangorrotary.net/event/rotary-meeting-65/
LOCATION:Bangor Golf Club\, Broadway\, BANGOR\, Northern Ireland\, BT20 4RH\, United Kingdom
END:VEVENT
BEGIN:VEVENT
DTSTART;TZID=Europe/London:20180404T140000
DTEND;TZID=Europe/London:20180404T150000
DTSTAMP:20260420T152544
CREATED:20180312T105044Z
LAST-MODIFIED:20180329T135144Z
UID:3309-1522850400-1522854000@www.bangorrotary.net
SUMMARY:No meeting tday
DESCRIPTION:
URL:https://www.bangorrotary.net/event/rotary-business-meeting-16/
LOCATION:Bangor Golf Club\, Broadway\, BANGOR\, Northern Ireland\, BT20 4RH\, United Kingdom
END:VEVENT
BEGIN:VEVENT
DTSTART;TZID=Europe/London:20180328T190000
DTEND;TZID=Europe/London:20180328T200000
DTSTAMP:20260420T152544
CREATED:20180307T095734Z
LAST-MODIFIED:20180312T104945Z
UID:3291-1522263600-1522267200@www.bangorrotary.net
SUMMARY:Rotary Evening Meeting
DESCRIPTION:Anyone for tea?\nThis evening we welcome Ross Thompson from Punjana Tea to tell us some of the story of the company’s history.\nMeal: Breaded Scampi
URL:https://www.bangorrotary.net/event/rotary-evening-meeting-2/
LOCATION:Bangor Golf Club\, Broadway\, BANGOR\, Northern Ireland\, BT20 4RH\, United Kingdom
END:VEVENT
BEGIN:VEVENT
DTSTART;TZID=Europe/London:20180321T130000
DTEND;TZID=Europe/London:20180321T140000
DTSTAMP:20260420T152544
CREATED:20180312T104914Z
LAST-MODIFIED:20180313T094815Z
UID:3306-1521637200-1521640800@www.bangorrotary.net
SUMMARY:Rotary Meeting
DESCRIPTION:Are you the Rotary Club of Bangor Curmudgeon of the Year?\nHere’s your opportunity to find out in our Competition\nLunch: Roast Chicken
URL:https://www.bangorrotary.net/event/rotary-meeting-64/
LOCATION:Bangor Golf Club\, Broadway\, BANGOR\, Northern Ireland\, BT20 4RH\, United Kingdom
END:VEVENT
BEGIN:VEVENT
DTSTART;TZID=Europe/London:20180314T130000
DTEND;TZID=Europe/London:20180314T140000
DTSTAMP:20260420T152544
CREATED:20180312T104722Z
LAST-MODIFIED:20180313T094129Z
UID:3303-1521032400-1521036000@www.bangorrotary.net
SUMMARY:Rotary Meeting
DESCRIPTION:Our own Sarah Havlin will report on her recent experience participating in the International Women’s festival at Oxford\nLunch: Gammon
URL:https://www.bangorrotary.net/event/rotary-meeting-63/
LOCATION:Bangor Golf Club\, Broadway\, BANGOR\, Northern Ireland\, BT20 4RH\, United Kingdom
END:VEVENT
BEGIN:VEVENT
DTSTART;TZID=Europe/London:20180312T130000
DTEND;TZID=Europe/London:20180312T140000
DTSTAMP:20260420T152544
CREATED:20180312T105530Z
LAST-MODIFIED:20180312T105530Z
UID:3319-1520859600-1520863200@www.bangorrotary.net
SUMMARY:Rotary Meeting
DESCRIPTION:Lunch: Baked Ham and Peaches
URL:https://www.bangorrotary.net/event/rotary-meeting-68/
LOCATION:Bangor Golf Club\, Broadway\, BANGOR\, Northern Ireland\, BT20 4RH\, United Kingdom
END:VEVENT
BEGIN:VEVENT
DTSTART;TZID=Europe/London:20180307T130000
DTEND;TZID=Europe/London:20180307T140000
DTSTAMP:20260420T152544
CREATED:20180307T095358Z
LAST-MODIFIED:20180307T095358Z
UID:3289-1520427600-1520431200@www.bangorrotary.net
SUMMARY:Business Meeting`
DESCRIPTION:Business Meeting today\nLunch: Turkey & Ham
URL:https://www.bangorrotary.net/event/business-meeting-3/
LOCATION:Bangor Golf Club\, Broadway\, BANGOR\, Northern Ireland\, BT20 4RH\, United Kingdom
END:VEVENT
BEGIN:VEVENT
DTSTART;TZID=Europe/London:20180228T180000
DTEND;TZID=Europe/London:20180228T190000
DTSTAMP:20260420T152544
CREATED:20180207T103919Z
LAST-MODIFIED:20180209T101534Z
UID:3258-1519840800-1519844400@www.bangorrotary.net
SUMMARY:Rotary Evening Meeting
DESCRIPTION:Brian Gillespie looks back on “My Years in the Travel Trade”.\nTea: Gammon
URL:https://www.bangorrotary.net/event/rotary-evening-meeting/
LOCATION:Bangor Golf Club\, Broadway\, BANGOR\, Northern Ireland\, BT20 4RH\, United Kingdom
END:VEVENT
BEGIN:VEVENT
DTSTART;TZID=Europe/London:20180227T190000
DTEND;TZID=Europe/London:20180227T220000
DTSTAMP:20260420T152544
CREATED:20180207T165315Z
LAST-MODIFIED:20180207T165401Z
UID:3264-1519758000-1519768800@www.bangorrotary.net
SUMMARY:Rotary Film Night
DESCRIPTION:Bag of popcorn and a slurpee are on the menu this evening as we gather for what is becoming an annual outing to Waldo’s Cinema\, Helen’s Bay.\nFilm to be announced – please inform your Secretary\, Stephen Connolly\, should you have a favourite choice.\nSee you in the back row!
URL:https://www.bangorrotary.net/event/rotary-film-night/
LOCATION:Northern Ireland
END:VEVENT
BEGIN:VEVENT
DTSTART;TZID=Europe/London:20180221T130000
DTEND;TZID=Europe/London:20180221T140000
DTSTAMP:20260420T152544
CREATED:20180207T103807Z
LAST-MODIFIED:20180209T101521Z
UID:3256-1519218000-1519221600@www.bangorrotary.net
SUMMARY:Rotary Meeting
DESCRIPTION:Michael Stephens will address the club on “Sailing\, Bangor and Beyond”.\nLunch: Cod (and chips!)
URL:https://www.bangorrotary.net/event/rotary-meeting-62/
LOCATION:Bangor Golf Club\, Broadway\, BANGOR\, Northern Ireland\, BT20 4RH\, United Kingdom
END:VEVENT
BEGIN:VEVENT
DTSTART;TZID=Europe/London:20180214T130000
DTEND;TZID=Europe/London:20180214T140000
DTSTAMP:20260420T152544
CREATED:20180207T103717Z
LAST-MODIFIED:20180207T165000Z
UID:3254-1518613200-1518616800@www.bangorrotary.net
SUMMARY:Rotary Meeting
DESCRIPTION:Speaker: Noel Spence from Tudor Cinema\, Comber. Noel is a retired school teacher who runs a small private cinema which is available for charity events. He is also an author and may bring along a few of his recent books.\nLunch: Roast Pork\n\n*****FOR GOODNESS SAKE\, DON’T FORGET IT’S VALENTINES DAY TODAY! YOU HAVE BEEN WARNED!****
URL:https://www.bangorrotary.net/event/rotary-meeting-61/
LOCATION:Bangor Golf Club\, Broadway\, BANGOR\, Northern Ireland\, BT20 4RH\, United Kingdom
END:VEVENT
BEGIN:VEVENT
DTSTART;TZID=Europe/London:20180207T130000
DTEND;TZID=Europe/London:20180207T140000
DTSTAMP:20260420T152544
CREATED:20180207T103603Z
LAST-MODIFIED:20180207T103603Z
UID:3252-1518008400-1518012000@www.bangorrotary.net
SUMMARY:Rotary Business Meeting
DESCRIPTION:Business Meeting\nLunch: Not sure – but it’ll be great!
URL:https://www.bangorrotary.net/event/rotary-business-meeting-15/
LOCATION:Bangor Golf Club\, Broadway\, BANGOR\, Northern Ireland\, BT20 4RH\, United Kingdom
END:VEVENT
BEGIN:VEVENT
DTSTART;TZID=Europe/London:20180131T130000
DTEND;TZID=Europe/London:20180131T140000
DTSTAMP:20260420T152544
CREATED:20180108T102007Z
LAST-MODIFIED:20180112T093053Z
UID:3220-1517403600-1517407200@www.bangorrotary.net
SUMMARY:Rotary Meeting
DESCRIPTION:Details to be advised\nLunch: Chicken Goujons
URL:https://www.bangorrotary.net/event/rotary-meeting-60/
LOCATION:Bangor Golf Club\, Broadway\, BANGOR\, Northern Ireland\, BT20 4RH\, United Kingdom
END:VEVENT
BEGIN:VEVENT
DTSTART;TZID=Europe/London:20180124T180000
DTEND;TZID=Europe/London:20180124T190000
DTSTAMP:20260420T152544
CREATED:20180108T101909Z
LAST-MODIFIED:20180112T092932Z
UID:3218-1516816800-1516820400@www.bangorrotary.net
SUMMARY:SPECIAL EVENT - DIY BURNS NIGHT
DESCRIPTION:DIY Burns Nite. This will take the form of a slightly programmed Open Mike Night. An opportunity for you to wear some tartan: share your knowledge of The Bard: swing your sporran: sing a song: tell a joke (clean ones only please!) or just sit and enjoy the craic.\nWives\, partners\, family and friends are welcome.\nTea: at the moment gammon. We’re on the hunt for Neeps and Tatties!
URL:https://www.bangorrotary.net/event/rotary-meeting-evening-meeting/
LOCATION:Bangor Golf Club\, Broadway\, BANGOR\, Northern Ireland\, BT20 4RH\, United Kingdom
END:VEVENT
BEGIN:VEVENT
DTSTART;TZID=Europe/London:20180117T130000
DTEND;TZID=Europe/London:20180117T140000
DTSTAMP:20260420T152544
CREATED:20180108T101428Z
LAST-MODIFIED:20180112T092449Z
UID:3216-1516194000-1516197600@www.bangorrotary.net
SUMMARY:Rotary Meeting
DESCRIPTION:Just what does new Rotarian David Lennon do in his day job? We’ll find out today as he presents the first Job Talk we’ve had for some time!\nLunch: Roast Beef
URL:https://www.bangorrotary.net/event/rotary-meeting-59/
LOCATION:Bangor Golf Club\, Broadway\, BANGOR\, Northern Ireland\, BT20 4RH\, United Kingdom
END:VEVENT
BEGIN:VEVENT
DTSTART;TZID=Europe/London:20180110T130000
DTEND;TZID=Europe/London:20180110T140000
DTSTAMP:20260420T152544
CREATED:20180108T101228Z
LAST-MODIFIED:20180108T101228Z
UID:3214-1515589200-1515592800@www.bangorrotary.net
SUMMARY:Rotary Business Meeting
DESCRIPTION:Welcome to 2018. So what does Bangor Rotary have in store for the next six months? Find out today!\nLunch: TBA
URL:https://www.bangorrotary.net/event/rotary-business-meeting-14/
LOCATION:Bangor Golf Club\, Broadway\, BANGOR\, Northern Ireland\, BT20 4RH\, United Kingdom
END:VEVENT
BEGIN:VEVENT
DTSTART;TZID=Europe/London:20171227T080000
DTEND;TZID=Europe/London:20171227T170000
DTSTAMP:20260420T152544
CREATED:20171122T133958Z
LAST-MODIFIED:20171122T134045Z
UID:3107-1514361600-1514394000@www.bangorrotary.net
SUMMARY:Rotary Meeting
DESCRIPTION:No Rotary today.\nFrom all of us at Rotary Website HQ\, we wish you a very Happy Christmas and a Peaceful New Year.\nSee you in 2018!
URL:https://www.bangorrotary.net/event/rotary-meeting-58/
LOCATION:Bangor Golf Club\, Broadway\, BANGOR\, Northern Ireland\, BT20 4RH\, United Kingdom
END:VEVENT
BEGIN:VEVENT
DTSTART;TZID=Europe/London:20171220T130000
DTEND;TZID=Europe/London:20171220T140000
DTSTAMP:20260420T152544
CREATED:20171122T133805Z
LAST-MODIFIED:20171122T133805Z
UID:3105-1513774800-1513778400@www.bangorrotary.net
SUMMARY:Rotary Christmas Lunch
DESCRIPTION:More Turkey and Ham than any one person could be expected to eat………plus a bit of fun!
URL:https://www.bangorrotary.net/event/rotary-christmas-lunch/
LOCATION:Bangor Golf Club\, Broadway\, BANGOR\, Northern Ireland\, BT20 4RH\, United Kingdom
END:VEVENT
BEGIN:VEVENT
DTSTART;TZID=Europe/London:20171213T190000
DTEND;TZID=Europe/London:20171213T223000
DTSTAMP:20260420T152544
CREATED:20171122T133403Z
LAST-MODIFIED:20171122T191207Z
UID:3101-1513191600-1513204200@www.bangorrotary.net
SUMMARY:SPECIAL EVENT: Christmas Dinner
DESCRIPTION:Bangor Golf Club – Wednesday 13th December 7pm for 7.30 pm for Drinks Reception. \nDress Formal  – Black Tie\nMusical Entertainment – Singer – Connor Taggart – Swing & Ballads
URL:https://www.bangorrotary.net/event/special-event-christmas-dinner/
LOCATION:Bangor Golf Club\, Broadway\, BANGOR\, Northern Ireland\, BT20 4RH\, United Kingdom
END:VEVENT
BEGIN:VEVENT
DTSTART;TZID=Europe/London:20171206T130000
DTEND;TZID=Europe/London:20171206T140000
DTSTAMP:20260420T152544
CREATED:20171122T133117Z
LAST-MODIFIED:20171122T133307Z
UID:3099-1512565200-1512568800@www.bangorrotary.net
SUMMARY:Rotary Meeting
DESCRIPTION:Business Meeting Today\nLunch: TBA
URL:https://www.bangorrotary.net/event/rotary-meeting-57/
LOCATION:Bangor Golf Club\, Broadway\, BANGOR\, Northern Ireland\, BT20 4RH\, United Kingdom
END:VEVENT
BEGIN:VEVENT
DTSTART;TZID=Europe/London:20171129T130000
DTEND;TZID=Europe/London:20171129T140000
DTSTAMP:20260420T152544
CREATED:20171019T131638Z
LAST-MODIFIED:20171123T105358Z
UID:3065-1511960400-1511964000@www.bangorrotary.net
SUMMARY:Rotary Meeting
DESCRIPTION:The planned Scatter Week has been postponed.\nInstead we will enjoy a visit from Nicola Hinds to update us on her recent visit to Bangladesh.\nLunch: Chili & RIce
URL:https://www.bangorrotary.net/event/special-event-scatter-week-2/
LOCATION:Bangor Golf Club\, Broadway\, BANGOR\, Northern Ireland\, BT20 4RH\, United Kingdom
END:VEVENT
BEGIN:VEVENT
DTSTART;TZID=Europe/London:20171122T130000
DTEND;TZID=Europe/London:20171122T140000
DTSTAMP:20260420T152544
CREATED:20171019T131319Z
LAST-MODIFIED:20171019T165329Z
UID:3063-1511355600-1511359200@www.bangorrotary.net
SUMMARY:SPECIAL EVENT: Special General Meeting
DESCRIPTION:The Special General Meeting will make some decisions about the future leadership of he Club. Have you volunteered yet?\nLunch: Roast Beef Chasseur
URL:https://www.bangorrotary.net/event/special-event-special-general-meeting/
LOCATION:Bangor Golf Club\, Broadway\, BANGOR\, Northern Ireland\, BT20 4RH\, United Kingdom
END:VEVENT
BEGIN:VEVENT
DTSTART;TZID=Europe/London:20171115T121500
DTEND;TZID=Europe/London:20171115T140000
DTSTAMP:20260420T152544
CREATED:20171019T130953Z
LAST-MODIFIED:20171024T131030Z
UID:3058-1510748100-1510754400@www.bangorrotary.net
SUMMARY:SPECIAL EVENT: Remembrance Day
DESCRIPTION:Please note the revised start time for this Remembrance Service at Bangor Golf Club\nStart time: 12:15pm\nLunch: Chicken
URL:https://www.bangorrotary.net/event/remembrance-day-commemoration/
LOCATION:Bangor Golf Club\, Broadway\, BANGOR\, Northern Ireland\, BT20 4RH\, United Kingdom
END:VEVENT
BEGIN:VEVENT
DTSTART;TZID=Europe/London:20171108T130000
DTEND;TZID=Europe/London:20171108T140000
DTSTAMP:20260420T152544
CREATED:20171019T130811Z
LAST-MODIFIED:20171019T165226Z
UID:3056-1510146000-1510149600@www.bangorrotary.net
SUMMARY:Youth Leadership Announcement
DESCRIPTION:A great day in our Annual calendar when we announce the winner of the Club Youth Leadership Competition\nLunch: Bar B Que Chicken
URL:https://www.bangorrotary.net/event/youth-leadership-announcement/
LOCATION:Bangor Golf Club\, Broadway\, BANGOR\, Northern Ireland\, BT20 4RH\, United Kingdom
END:VEVENT
BEGIN:VEVENT
DTSTART;TZID=Europe/London:20171101T130000
DTEND;TZID=Europe/London:20171101T140000
DTSTAMP:20260420T152544
CREATED:20171019T130627Z
LAST-MODIFIED:20171019T165123Z
UID:3054-1509541200-1509544800@www.bangorrotary.net
SUMMARY:Business Meeting
DESCRIPTION:Update on what has gone before and what is to come!\nLunch: Gammon & Pineapple
URL:https://www.bangorrotary.net/event/business-meeting-2/
LOCATION:Bangor Golf Club\, Broadway\, BANGOR\, Northern Ireland\, BT20 4RH\, United Kingdom
END:VEVENT
BEGIN:VEVENT
DTSTART;TZID=Europe/London:20171025T140000
DTEND;TZID=Europe/London:20171025T150000
DTSTAMP:20260420T152544
CREATED:20170912T093125Z
LAST-MODIFIED:20171024T130954Z
UID:3012-1508940000-1508943600@www.bangorrotary.net
SUMMARY:Youth Leadership Lunch
DESCRIPTION:Quiz from PP Ian Wilson – fiendish!\nLunch: Grilled Hake with Parsley Sauce
URL:https://www.bangorrotary.net/event/youth-leadership-lunch/
LOCATION:Bangor Golf Club\, Broadway\, BANGOR\, Northern Ireland\, BT20 4RH\, United Kingdom
END:VEVENT
BEGIN:VEVENT
DTSTART;TZID=Europe/London:20171019T090000
DTEND;TZID=Europe/London:20171019T180000
DTSTAMP:20260420T152544
CREATED:20171019T131112Z
LAST-MODIFIED:20171019T131112Z
UID:3060-1508403600-1508436000@www.bangorrotary.net
SUMMARY:SPECIAL EVENT: Scatter Week
DESCRIPTION:A Scatter Week? President James will make all clear in good time.\nNO MEETING TODAY
URL:https://www.bangorrotary.net/event/special-event-scatter-week/
LOCATION:Northern Ireland
END:VEVENT
END:VCALENDAR