BEGIN:VCALENDAR
VERSION:2.0
PRODID:-// - ECPv6.15.20//NONSGML v1.0//EN
CALSCALE:GREGORIAN
METHOD:PUBLISH
X-ORIGINAL-URL:https://www.bangorrotary.net
X-WR-CALDESC:Events for 
REFRESH-INTERVAL;VALUE=DURATION:PT1H
X-Robots-Tag:noindex
X-PUBLISHED-TTL:PT1H
BEGIN:VTIMEZONE
TZID:Europe/London
BEGIN:DAYLIGHT
TZOFFSETFROM:+0000
TZOFFSETTO:+0100
TZNAME:BST
DTSTART:20170326T010000
END:DAYLIGHT
BEGIN:STANDARD
TZOFFSETFROM:+0100
TZOFFSETTO:+0000
TZNAME:GMT
DTSTART:20171029T010000
END:STANDARD
BEGIN:DAYLIGHT
TZOFFSETFROM:+0000
TZOFFSETTO:+0100
TZNAME:BST
DTSTART:20180325T010000
END:DAYLIGHT
BEGIN:STANDARD
TZOFFSETFROM:+0100
TZOFFSETTO:+0000
TZNAME:GMT
DTSTART:20181028T010000
END:STANDARD
BEGIN:DAYLIGHT
TZOFFSETFROM:+0000
TZOFFSETTO:+0100
TZNAME:BST
DTSTART:20190331T010000
END:DAYLIGHT
BEGIN:STANDARD
TZOFFSETFROM:+0100
TZOFFSETTO:+0000
TZNAME:GMT
DTSTART:20191027T010000
END:STANDARD
END:VTIMEZONE
BEGIN:VEVENT
DTSTART;TZID=Europe/London:20181114T123000
DTEND;TZID=Europe/London:20181114T140000
DTSTAMP:20260420T104807
CREATED:20181015T104152Z
LAST-MODIFIED:20181113T095812Z
UID:3755-1542198600-1542204000@www.bangorrotary.net
SUMMARY:Bangor Rotary Remembrance Day: SPECIAL EVENT with 12:30 start
DESCRIPTION:Speaker: Nigel Henderson\, Great War Researcher\, History Hub Ulster War’s End\, Homecoming and Commemoration\nLunch: Soup\, Sandwiches and Coffee
URL:https://www.bangorrotary.net/event/bangor-rotary-remembrance-day-special-event/
LOCATION:Bangor Golf Club\, Broadway\, BANGOR\, Northern Ireland\, BT20 4RH\, United Kingdom
END:VEVENT
BEGIN:VEVENT
DTSTART;TZID=Europe/London:20181107T130000
DTEND;TZID=Europe/London:20181107T140000
DTSTAMP:20260420T104807
CREATED:20181022T113852Z
LAST-MODIFIED:20181022T113852Z
UID:3766-1541595600-1541599200@www.bangorrotary.net
SUMMARY:Rotary Business Meeting
DESCRIPTION:What’s cooking in the Rotary Club of Bangor this month\nLunch: Pork and Leek  Sausages
URL:https://www.bangorrotary.net/event/rotary-business-meeting-21/
LOCATION:Bangor Golf Club\, Broadway\, BANGOR\, Northern Ireland\, BT20 4RH\, United Kingdom
END:VEVENT
BEGIN:VEVENT
DTSTART;TZID=Europe/London:20181031T180000
DTEND;TZID=Europe/London:20181031T190000
DTSTAMP:20260420T104807
CREATED:20180906T092812Z
LAST-MODIFIED:20181023T101553Z
UID:3688-1541008800-1541012400@www.bangorrotary.net
SUMMARY:Rotary Evening Meeting - DG Visit
DESCRIPTION:Boo!\n\nPlease always remember than when being chased by ghosties and goolies at Hallowe’en\, it’s always better to get caught by the ghosties! (ed)\n\n\nSpeaker:  District Governor Monica Robertson\nTea: Roast Beef & Pepper Sauce
URL:https://www.bangorrotary.net/event/rotary-meeting-84/
LOCATION:Bangor Golf Club\, Broadway\, BANGOR\, Northern Ireland\, BT20 4RH\, United Kingdom
END:VEVENT
BEGIN:VEVENT
DTSTART;TZID=Europe/London:20181024T140000
DTEND;TZID=Europe/London:20181024T150000
DTSTAMP:20260420T104807
CREATED:20180906T092459Z
LAST-MODIFIED:20181022T113626Z
UID:3686-1540389600-1540393200@www.bangorrotary.net
SUMMARY:Rotary Meeting
DESCRIPTION:Speaker: Nick Stevenson\, the former owner of Surf Mountain\, to address the club on his business and related topics.\nLunch: Breaded Chicken Goujons
URL:https://www.bangorrotary.net/event/rotary-evening-meeting-4/
LOCATION:Bangor Golf Club\, Broadway\, BANGOR\, Northern Ireland\, BT20 4RH\, United Kingdom
END:VEVENT
BEGIN:VEVENT
DTSTART;TZID=Europe/London:20181017T140000
DTEND;TZID=Europe/London:20181017T150000
DTSTAMP:20260420T104807
CREATED:20180906T092407Z
LAST-MODIFIED:20180906T092407Z
UID:3684-1539784800-1539788400@www.bangorrotary.net
SUMMARY:Rotary Meeting
DESCRIPTION:Speaker: TBC\nLunch: Baked Ham & Peaches
URL:https://www.bangorrotary.net/event/rotary-meeting-83/
LOCATION:Bangor Golf Club\, Broadway\, BANGOR\, Northern Ireland\, BT20 4RH\, United Kingdom
END:VEVENT
BEGIN:VEVENT
DTSTART;VALUE=DATE:20181010
DTEND;VALUE=DATE:20181012
DTSTAMP:20260420T104807
CREATED:20180906T092321Z
LAST-MODIFIED:20181001T072509Z
UID:3682-1539133200-1539219599@www.bangorrotary.net
SUMMARY:Rotary Charity Breakfast
DESCRIPTION:Charity Breakfast today therefore no lunch!\n\nCharity Breakfast\nClandeboye Lodge Hotel \n7:30am – 8:45am \nSpeaker: Jim Gamble QPM\, CEO Ineqe Group \nAbout the Ineqe Group\nThe Ineqe team offers a wide range of expertise and provides unrivalled access to contemporary leaders and practitioners with credible experience working with children and young people\, volunteers\, parents and staff.\nIneqe Group is a dynamic company\, who specialise in safeguarding and child protection\, both in the offline world and in the digital world. \n\n\n\n\n\n\n \nOur track record\nWe have a proven track record delivering confidential advice\, consultancy\, reviews and training to a wide spectrum of clients\, both public and private sector. \n\n\n\n\n\n\n\n\n\n\n \nOur work\nWe have a reputation for working with our clients to develop and construct strategy\, policy\, training and mentoring programs that deliver sustainable improvement. \n\n\n\n\n\n\n\n\n\n\n\n\n\nIneqe Group combines traditional learning methods with technology to deliver important training\, advice and knowledge tests to a range of mobile devices. This means that staff\, adult volunteers\, parents and children have access to up-to-date advice\, policy and guidelines readily at hand. \n\n\n\n\n\n\n\n\n\n\n \nOur client-focused approach ensures that your requirements and local issues inform the solutions we develop to meet your needs and help safeguard children and vulnerable adults and\, at the same time safeguard your reputation.
URL:https://www.bangorrotary.net/event/rotary-charity-breakfast-2/
END:VEVENT
BEGIN:VEVENT
DTSTART;TZID=Europe/London:20181003T140000
DTEND;TZID=Europe/London:20181003T150000
DTSTAMP:20260420T104807
CREATED:20180906T092233Z
LAST-MODIFIED:20180906T092233Z
UID:3680-1538575200-1538578800@www.bangorrotary.net
SUMMARY:Rotary Business Meeting
DESCRIPTION:Speaker: TBC\nLunch: Grilled Cod & Parsley Sauce
URL:https://www.bangorrotary.net/event/rotary-business-meeting-20/
END:VEVENT
BEGIN:VEVENT
DTSTART;TZID=Europe/London:20180926T190000
DTEND;TZID=Europe/London:20180926T200000
DTSTAMP:20260420T104807
CREATED:20180814T095550Z
LAST-MODIFIED:20180818T081737Z
UID:3625-1537988400-1537992000@www.bangorrotary.net
SUMMARY:Rotary Evening Meeting
DESCRIPTION:Speaker: David Lyle OBE\, Promoting Peace and Combatting Terrorism through advertising (on which BBC N Ireland showed a documentary featuring David earlier this year)\nTea: Turkey & Ham
URL:https://www.bangorrotary.net/event/rotary-evening-meeting-3/
LOCATION:Bangor Golf Club\, Broadway\, BANGOR\, Northern Ireland\, BT20 4RH\, United Kingdom
END:VEVENT
BEGIN:VEVENT
DTSTART;TZID=Europe/London:20180919T140000
DTEND;TZID=Europe/London:20180919T150000
DTSTAMP:20260420T104807
CREATED:20180814T095433Z
LAST-MODIFIED:20180818T081706Z
UID:3623-1537365600-1537369200@www.bangorrotary.net
SUMMARY:Rotary Meeting
DESCRIPTION:Lunch: BBQ Chicken & Pepper Sauce\nSpeaker: The Mayor of Ards & North Down BC\, Cllr Richard Smart
URL:https://www.bangorrotary.net/event/rotary-meeting-82/
LOCATION:Bangor Golf Club\, Broadway\, BANGOR\, Northern Ireland\, BT20 4RH\, United Kingdom
END:VEVENT
BEGIN:VEVENT
DTSTART;TZID=Europe/London:20180912T140000
DTEND;TZID=Europe/London:20180912T150000
DTSTAMP:20260420T104807
CREATED:20180814T100006Z
LAST-MODIFIED:20180910T080115Z
UID:3629-1536760800-1536764400@www.bangorrotary.net
SUMMARY:Rotary Meeting
DESCRIPTION:Lunch: Roast Beef\nSpeaker: Paul & Julie Hatty speaking on their recent visit to Nigeria
URL:https://www.bangorrotary.net/event/rotary-meetingq/
LOCATION:Bangor Golf Club\, Broadway\, BANGOR\, Northern Ireland\, BT20 4RH\, United Kingdom
END:VEVENT
BEGIN:VEVENT
DTSTART;TZID=Europe/London:20180905T140000
DTEND;TZID=Europe/London:20180905T150000
DTSTAMP:20260420T104807
CREATED:20180814T095901Z
LAST-MODIFIED:20180818T081624Z
UID:3627-1536156000-1536159600@www.bangorrotary.net
SUMMARY:Rotary Business Meeting
DESCRIPTION:Business Meeting\nLunch: Gammon & Pineapple
URL:https://www.bangorrotary.net/event/rotary-business-meeting-19/
LOCATION:Bangor Golf Club\, Broadway\, BANGOR\, Northern Ireland\, BT20 4RH\, United Kingdom
END:VEVENT
BEGIN:VEVENT
DTSTART;TZID=Europe/London:20180829T140000
DTEND;TZID=Europe/London:20180829T140000
DTSTAMP:20260420T104807
CREATED:20180629T093903Z
LAST-MODIFIED:20180814T095046Z
UID:3581-1535551200-1535551200@www.bangorrotary.net
SUMMARY:Rotary Meeting
DESCRIPTION:What – another bloody salad?\nAh yes – but it’s with chips\, and next week we get back to hot food.\n\nWhich means summer is over – and Christmas is only 110 sleeps away!\nChloe McAnirn will address the club on her business in Bangor\, featured recently in the BELFAST TELEGRAPH. This is the beauty salon\, Chloco\, on Castle Street.\n\nChloe was a schoolfriend of David Lyle’s daughter\, Abigail\, who is now married and lives in England. We’re to hear from David in September.
URL:https://www.bangorrotary.net/event/rotary-meeting-81/
LOCATION:Bangor Golf Club\, Broadway\, BANGOR\, Northern Ireland\, BT20 4RH\, United Kingdom
END:VEVENT
BEGIN:VEVENT
DTSTART;TZID=Europe/London:20180822T140000
DTEND;TZID=Europe/London:20180822T150000
DTSTAMP:20260420T104807
CREATED:20180629T093445Z
LAST-MODIFIED:20180629T093445Z
UID:3579-1534946400-1534950000@www.bangorrotary.net
SUMMARY:Rotary Meeting
DESCRIPTION:What you really need is a salad – and yes\, with chips!
URL:https://www.bangorrotary.net/event/rotary-meeting-80/
LOCATION:Bangor Golf Club\, Broadway\, BANGOR\, Northern Ireland\, BT20 4RH\, United Kingdom
END:VEVENT
BEGIN:VEVENT
DTSTART;TZID=Europe/London:20180815T140000
DTEND;TZID=Europe/London:20180815T150000
DTSTAMP:20260420T104807
CREATED:20180629T093339Z
LAST-MODIFIED:20180814T163156Z
UID:3577-1534341600-1534345200@www.bangorrotary.net
SUMMARY:Rotary Meeting
DESCRIPTION:What you really need is a salad – and yes\, with chips (or should I say\, frites!)\n\n  \nThese will beautifully compliment the two hours of reminiscences and shared experiences of our Past President and much-revered Hon Secretary\, Stephen Connolly\, as he takes us along the highways and byways of his beloved France.\nStephen has spent many weeks enjoying la belle vie en France\, and has been threatening for some time to regale us with his many adventures. From de Gaulle to Macron*\, Stephen has met them all\, and now  – from our own ‘Man in Paris’ – you can too.\n(*Please note that these are Jules de Gaulle (baker)  and Robert Macron (unemployed)\, and should not be confused with French Presidents of similar names.)
URL:https://www.bangorrotary.net/event/rotary-meeting-79/
LOCATION:Bangor Golf Club\, Broadway\, BANGOR\, Northern Ireland\, BT20 4RH\, United Kingdom
END:VEVENT
BEGIN:VEVENT
DTSTART;TZID=Europe/London:20180808T140000
DTEND;TZID=Europe/London:20180808T150000
DTSTAMP:20260420T104807
CREATED:20180629T093257Z
LAST-MODIFIED:20180629T093257Z
UID:3575-1533736800-1533740400@www.bangorrotary.net
SUMMARY:Rotary Meeting
DESCRIPTION:I see you’re having chips for lunch – would you like a salad with that?
URL:https://www.bangorrotary.net/event/rotary-meeting-78/
LOCATION:Bangor Golf Club\, Broadway\, BANGOR\, Northern Ireland\, BT20 4RH\, United Kingdom
END:VEVENT
BEGIN:VEVENT
DTSTART;TZID=Europe/London:20180801T140000
DTEND;TZID=Europe/London:20180801T150000
DTSTAMP:20260420T104807
CREATED:20180629T093120Z
LAST-MODIFIED:20180629T093125Z
UID:3571-1533132000-1533135600@www.bangorrotary.net
SUMMARY:Rotary Meeting
DESCRIPTION:August already! Where is this summer going?\nWhat you really need is a salad – and yes\, with chips!
URL:https://www.bangorrotary.net/event/rotary-meeting-77/
LOCATION:Bangor Golf Club\, Broadway\, BANGOR\, Northern Ireland\, BT20 4RH\, United Kingdom
END:VEVENT
BEGIN:VEVENT
DTSTART;TZID=Europe/London:20180725T140000
DTEND;TZID=Europe/London:20180725T150000
DTSTAMP:20260420T104807
CREATED:20180629T092916Z
LAST-MODIFIED:20180629T092916Z
UID:3569-1532527200-1532530800@www.bangorrotary.net
SUMMARY:Rotary Meeting
DESCRIPTION:Welcome to the Salad Days of Summer (with chips!)
URL:https://www.bangorrotary.net/event/rotary-meeting-76/
LOCATION:Bangor Golf Club\, Broadway\, BANGOR\, Northern Ireland\, BT20 4RH\, United Kingdom
END:VEVENT
BEGIN:VEVENT
DTSTART;TZID=Europe/London:20180718T140000
DTEND;TZID=Europe/London:20180718T150000
DTSTAMP:20260420T104807
CREATED:20180629T092819Z
LAST-MODIFIED:20180703T072549Z
UID:3566-1531922400-1531926000@www.bangorrotary.net
SUMMARY:Rotary Meeting
DESCRIPTION:Welcome to the Salad Days of Summer (with Chips)!\nSpeaker today is Robin Masefield CBE\, speaking on his latest book\, The History of Palace Barracks (to 1969)\, and Holywood as a Garrison Town
URL:https://www.bangorrotary.net/event/rotary-meeting-75/
LOCATION:Bangor Golf Club\, Broadway\, BANGOR\, Northern Ireland\, BT20 4RH\, United Kingdom
END:VEVENT
BEGIN:VEVENT
DTSTART;TZID=Europe/London:20180711T140000
DTEND;TZID=Europe/London:20180711T150000
DTSTAMP:20260420T104807
CREATED:20180629T092704Z
LAST-MODIFIED:20180629T092704Z
UID:3564-1531317600-1531321200@www.bangorrotary.net
SUMMARY:Rotary Meeting
DESCRIPTION:No meeting today! See you next week.
URL:https://www.bangorrotary.net/event/rotary-meeting-74/
END:VEVENT
BEGIN:VEVENT
DTSTART;TZID=Europe/London:20180704T140000
DTEND;TZID=Europe/London:20180704T150000
DTSTAMP:20260420T104807
CREATED:20180629T092359Z
LAST-MODIFIED:20180629T092549Z
UID:3559-1530712800-1530716400@www.bangorrotary.net
SUMMARY:Rotary Meeting
DESCRIPTION:Welcome to the Salad Days of Summer (with chips)!
URL:https://www.bangorrotary.net/event/rotary-meeting-73/
LOCATION:Bangor Golf Club\, Broadway\, BANGOR\, Northern Ireland\, BT20 4RH\, United Kingdom
END:VEVENT
BEGIN:VEVENT
DTSTART;TZID=Europe/London:20180627T140000
DTEND;TZID=Europe/London:20180627T150000
DTSTAMP:20260420T104807
CREATED:20180322T123900Z
LAST-MODIFIED:20180607T101610Z
UID:3374-1530108000-1530111600@www.bangorrotary.net
SUMMARY:SPECIAL EVENT: Handover Day
DESCRIPTION:A bit earlier than usual\, we will say hello to our new President(s) and their Council for 2018/19\nLunch: Roast Turkey & Ham
URL:https://www.bangorrotary.net/event/special-event-handover-day/
LOCATION:Bangor Golf Club\, Broadway\, BANGOR\, Northern Ireland\, BT20 4RH\, United Kingdom
END:VEVENT
BEGIN:VEVENT
DTSTART;TZID=Europe/London:20180620T203000
DTEND;TZID=Europe/London:20180620T230000
DTSTAMP:20260420T104807
CREATED:20180322T123724Z
LAST-MODIFIED:20180607T101649Z
UID:3372-1529526600-1529535600@www.bangorrotary.net
SUMMARY:PRESIDENT'S NIGHT
DESCRIPTION:The big event of the year to thank outgoing President James O’Fee for his service and leadership to our Club over the past year\nFancy Dress encouraged
URL:https://www.bangorrotary.net/event/presidents-night-2/
LOCATION:Bangor Golf Club\, Broadway\, BANGOR\, Northern Ireland\, BT20 4RH\, United Kingdom
END:VEVENT
BEGIN:VEVENT
DTSTART;TZID=Europe/London:20180613T140000
DTEND;TZID=Europe/London:20180613T150000
DTSTAMP:20260420T104807
CREATED:20180322T123549Z
LAST-MODIFIED:20180607T101533Z
UID:3370-1528898400-1528902000@www.bangorrotary.net
SUMMARY:Rotary Meeting
DESCRIPTION:Our speaker today is our very own Brian Wilson. Recently returned from a six months round the world cruise\, Brian will share the highlights of his once-in-a-lifetime trip in 20 minutes!\nLunch: Roast Beef and Yorkshire Pudding
URL:https://www.bangorrotary.net/event/rotary-meeting-71/
LOCATION:Bangor Golf Club\, Broadway\, BANGOR\, Northern Ireland\, BT20 4RH\, United Kingdom
END:VEVENT
BEGIN:VEVENT
DTSTART;VALUE=DATE:20180609
DTEND;VALUE=DATE:20180611
DTSTAMP:20260420T104807
CREATED:20180322T123415Z
LAST-MODIFIED:20180322T123454Z
UID:3367-1528506000-1528592399@www.bangorrotary.net
SUMMARY:SPECIAL EVENT: Blood Pressure Days
DESCRIPTION:Extending over the weekend of June 9th and 10th\, details of these Service Days to be confirmed
URL:https://www.bangorrotary.net/event/special-event-blood-pressure-days/
END:VEVENT
BEGIN:VEVENT
DTSTART;TZID=Europe/London:20180606T140000
DTEND;TZID=Europe/London:20180606T150000
DTSTAMP:20260420T104807
CREATED:20180322T123321Z
LAST-MODIFIED:20180525T071608Z
UID:3365-1528293600-1528297200@www.bangorrotary.net
SUMMARY:Rotary Business Meeting
DESCRIPTION:The final Business Meeting of this Rotary Year\nLunch: TBA
URL:https://www.bangorrotary.net/event/rotary-business-meeting-18/
LOCATION:Bangor Golf Club\, Broadway\, BANGOR\, Northern Ireland\, BT20 4RH\, United Kingdom
END:VEVENT
BEGIN:VEVENT
DTSTART;TZID=Europe/London:20180530T203000
DTEND;TZID=Europe/London:20180530T230000
DTSTAMP:20260420T104807
CREATED:20180312T110019Z
LAST-MODIFIED:20180509T094250Z
UID:3325-1527712200-1527721200@www.bangorrotary.net
SUMMARY:SPECIAL EVENT - Wine Tasting
DESCRIPTION:An evening of wine tasting with our friends from Neill Wines from Groomsport & Helen’s Bay.\nPLEASE NOTE THAT THERE IS NO MEAL SERVED THIS EVENING\nMore details to follow
URL:https://www.bangorrotary.net/event/special-event-wine-tasting/
LOCATION:Bangor Golf Club\, Broadway\, BANGOR\, Northern Ireland\, BT20 4RH\, United Kingdom
END:VEVENT
BEGIN:VEVENT
DTSTART;TZID=Europe/London:20180523T190000
DTEND;TZID=Europe/London:20180523T200000
DTSTAMP:20260420T104807
CREATED:20180312T105723Z
LAST-MODIFIED:20180509T094136Z
UID:3323-1527102000-1527105600@www.bangorrotary.net
SUMMARY:Rotary Meeting: AGM
DESCRIPTION:AGM evening\nTea: Breaded Scampi
URL:https://www.bangorrotary.net/event/rotary-meeting-70/
LOCATION:Bangor Golf Club\, Broadway\, BANGOR\, Northern Ireland\, BT20 4RH\, United Kingdom
END:VEVENT
BEGIN:VEVENT
DTSTART;TZID=Europe/London:20180516T140000
DTEND;TZID=Europe/London:20180516T150000
DTSTAMP:20260420T104807
CREATED:20180312T105625Z
LAST-MODIFIED:20180509T094109Z
UID:3321-1526479200-1526482800@www.bangorrotary.net
SUMMARY:SPECIAL EVENT: Club Assembly
DESCRIPTION:Club Assembly – find out what’s in store for 2018/19 Rotary Year\nLunch: Pork Chops with Pepper Sauce
URL:https://www.bangorrotary.net/event/rotary-meeting-69/
LOCATION:Bangor Golf Club\, Broadway\, BANGOR\, Northern Ireland\, BT20 4RH\, United Kingdom
END:VEVENT
BEGIN:VEVENT
DTSTART;TZID=Europe/London:20180509T140000
DTEND;TZID=Europe/London:20180509T150000
DTSTAMP:20260420T104807
CREATED:20180329T135359Z
LAST-MODIFIED:20180509T094009Z
UID:3379-1525874400-1525878000@www.bangorrotary.net
SUMMARY:Rotary Meeting
DESCRIPTION:Madeline Donnelly from Stroke Association\nLunch: TBA
URL:https://www.bangorrotary.net/event/rotary-meeting-72/
LOCATION:Bangor Golf Club\, Broadway\, BANGOR\, Northern Ireland\, BT20 4RH\, United Kingdom
END:VEVENT
BEGIN:VEVENT
DTSTART;TZID=Europe/London:20180502T140000
DTEND;TZID=Europe/London:20180502T150000
DTSTAMP:20260420T104807
CREATED:20180312T105441Z
LAST-MODIFIED:20180312T105441Z
UID:3317-1525269600-1525273200@www.bangorrotary.net
SUMMARY:Rotary Business Meeting
DESCRIPTION:Lunch: Chicken Goujons
URL:https://www.bangorrotary.net/event/rotary-business-meeting-17/
LOCATION:Bangor Golf Club\, Broadway\, BANGOR\, Northern Ireland\, BT20 4RH\, United Kingdom
END:VEVENT
END:VCALENDAR