BEGIN:VCALENDAR
VERSION:2.0
PRODID:-// - ECPv6.15.20//NONSGML v1.0//EN
CALSCALE:GREGORIAN
METHOD:PUBLISH
X-ORIGINAL-URL:https://www.bangorrotary.net
X-WR-CALDESC:Events for 
REFRESH-INTERVAL;VALUE=DURATION:PT1H
X-Robots-Tag:noindex
X-PUBLISHED-TTL:PT1H
BEGIN:VTIMEZONE
TZID:Europe/London
BEGIN:DAYLIGHT
TZOFFSETFROM:+0000
TZOFFSETTO:+0100
TZNAME:BST
DTSTART:20180325T010000
END:DAYLIGHT
BEGIN:STANDARD
TZOFFSETFROM:+0100
TZOFFSETTO:+0000
TZNAME:GMT
DTSTART:20181028T010000
END:STANDARD
BEGIN:DAYLIGHT
TZOFFSETFROM:+0000
TZOFFSETTO:+0100
TZNAME:BST
DTSTART:20190331T010000
END:DAYLIGHT
BEGIN:STANDARD
TZOFFSETFROM:+0100
TZOFFSETTO:+0000
TZNAME:GMT
DTSTART:20191027T010000
END:STANDARD
BEGIN:DAYLIGHT
TZOFFSETFROM:+0000
TZOFFSETTO:+0100
TZNAME:BST
DTSTART:20200329T010000
END:DAYLIGHT
BEGIN:STANDARD
TZOFFSETFROM:+0100
TZOFFSETTO:+0000
TZNAME:GMT
DTSTART:20201025T010000
END:STANDARD
END:VTIMEZONE
BEGIN:VEVENT
DTSTART;TZID=Europe/London:20191113T123000
DTEND;TZID=Europe/London:20191113T140000
DTSTAMP:20260420T055417
CREATED:20190916T100745Z
LAST-MODIFIED:20191101T134421Z
UID:4327-1573648200-1573653600@www.bangorrotary.net
SUMMARY:Remembrance Event
DESCRIPTION:Remembrance Event 12.30pm Bangor Golf Club – Details to follow\nLunch: Soup and Sandwiches 
URL:https://www.bangorrotary.net/event/remembrance-event/
END:VEVENT
BEGIN:VEVENT
DTSTART;TZID=Europe/London:20191106T130000
DTEND;TZID=Europe/London:20191106T140000
DTSTAMP:20260420T055417
CREATED:20190916T100648Z
LAST-MODIFIED:20191101T134340Z
UID:4325-1573045200-1573048800@www.bangorrotary.net
SUMMARY:Rotary Business Meeting
DESCRIPTION:Rotary Business Meeting\nLunch: Roast Loin of Pork with Apple Sauce
URL:https://www.bangorrotary.net/event/rotary-business-meeting-30/
END:VEVENT
BEGIN:VEVENT
DTSTART;TZID=Europe/London:20191030T180000
DTEND;TZID=Europe/London:20191030T190000
DTSTAMP:20260420T055417
CREATED:20190916T100551Z
LAST-MODIFIED:20191021T111038Z
UID:4323-1572458400-1572462000@www.bangorrotary.net
SUMMARY:Rotary Evening Meeting
DESCRIPTION:Harry McBride speaker\nLunch: Roast Beef\, Yorkshire Pudding with Mash and Gravy
URL:https://www.bangorrotary.net/event/rotary-evening-meeting-9/
END:VEVENT
BEGIN:VEVENT
DTSTART;TZID=Europe/London:20191023T073000
DTEND;TZID=Europe/London:20191023T090000
DTSTAMP:20260420T055417
CREATED:20190916T100443Z
LAST-MODIFIED:20191023T060101Z
UID:4321-1571815800-1571821200@www.bangorrotary.net
SUMMARY:Charity Breakfast
DESCRIPTION:Charity Breakfast – Bangor Golf Club 7.30 am with Guest speaker Don Anderson
URL:https://www.bangorrotary.net/event/charity-breakfast-2/
END:VEVENT
BEGIN:VEVENT
DTSTART;TZID=Europe/London:20191016T130000
DTEND;TZID=Europe/London:20191016T140000
DTSTAMP:20260420T055417
CREATED:20191010T163818Z
LAST-MODIFIED:20191010T163835Z
UID:4342-1571230800-1571234400@www.bangorrotary.net
SUMMARY:Rotary Meeting
DESCRIPTION:Our good friend and Honorory Member\, Nicola Hynds will visit once again to update us on her most recent work with ShelterBox\nLunch: Something really lovely!
URL:https://www.bangorrotary.net/event/rotary-meeting-105/
LOCATION:Bangor Golf Club\, Broadway\, BANGOR\, Northern Ireland\, BT20 4RH\, United Kingdom
END:VEVENT
BEGIN:VEVENT
DTSTART;TZID=Europe/London:20191009T130000
DTEND;TZID=Europe/London:20191009T140000
DTSTAMP:20260420T055417
CREATED:20190916T100351Z
LAST-MODIFIED:20190916T100351Z
UID:4319-1570626000-1570629600@www.bangorrotary.net
SUMMARY:Visit of District Governor\, William Cross
DESCRIPTION:Visit of District Governor\, William Cross
URL:https://www.bangorrotary.net/event/visit-of-district-governor-william-cross/
END:VEVENT
BEGIN:VEVENT
DTSTART;TZID=Europe/London:20191002T130000
DTEND;TZID=Europe/London:20191002T140000
DTSTAMP:20260420T055417
CREATED:20190916T100301Z
LAST-MODIFIED:20190916T100301Z
UID:4317-1570021200-1570024800@www.bangorrotary.net
SUMMARY:Rotary Business Meeting
DESCRIPTION:Rotary Business Meeting
URL:https://www.bangorrotary.net/event/rotary-business-meeting-29/
END:VEVENT
BEGIN:VEVENT
DTSTART;TZID=Europe/London:20190925T180000
DTEND;TZID=Europe/London:20190925T190000
DTSTAMP:20260420T055417
CREATED:20190829T135602Z
LAST-MODIFIED:20190916T100217Z
UID:4306-1569434400-1569438000@www.bangorrotary.net
SUMMARY:Rotary Meeting - Evening Meeting
DESCRIPTION:Guest speaker John McCormick\, Policy and Engagement Officer\, Versus Arthritis (main charity for Breakfast).\nTea: Breaded Haddock Mushy Peas and Chips
URL:https://www.bangorrotary.net/event/rotary-meeting-104/
END:VEVENT
BEGIN:VEVENT
DTSTART;TZID=Europe/London:20190918T130000
DTEND;TZID=Europe/London:20190918T140000
DTSTAMP:20260420T055417
CREATED:20190829T135505Z
LAST-MODIFIED:20190829T135505Z
UID:4304-1568811600-1568815200@www.bangorrotary.net
SUMMARY:Rotary Meeting
DESCRIPTION:Lunch: Roast Pork Apple Sauce and Vegetables
URL:https://www.bangorrotary.net/event/rotary-meeting-103/
END:VEVENT
BEGIN:VEVENT
DTSTART;TZID=Europe/London:20190911T130000
DTEND;TZID=Europe/London:20190911T140000
DTSTAMP:20260420T055417
CREATED:20190829T135408Z
LAST-MODIFIED:20190829T135408Z
UID:4302-1568206800-1568210400@www.bangorrotary.net
SUMMARY:Rotary Meeting
DESCRIPTION:Lunch: Chicken Curry and boiled Rice
URL:https://www.bangorrotary.net/event/rotary-meeting-102/
END:VEVENT
BEGIN:VEVENT
DTSTART;TZID=Europe/London:20190904T130000
DTEND;TZID=Europe/London:20190904T140000
DTSTAMP:20260420T055417
CREATED:20190829T135250Z
LAST-MODIFIED:20190829T135251Z
UID:4300-1567602000-1567605600@www.bangorrotary.net
SUMMARY:Business Meeting
DESCRIPTION:Lunch Grilled Gammon with Pineapple and Mash
URL:https://www.bangorrotary.net/event/business-meeting-4/
END:VEVENT
BEGIN:VEVENT
DTSTART;VALUE=DATE:20190731
DTEND;VALUE=DATE:20190801
DTSTAMP:20260420T055417
CREATED:20190613T074717Z
LAST-MODIFIED:20190620T102131Z
UID:4256-1564531200-1564617599@www.bangorrotary.net
SUMMARY:No Rotary Meeting during July
DESCRIPTION:
URL:https://www.bangorrotary.net/event/no-rotary-meeting-during-july-4/
END:VEVENT
BEGIN:VEVENT
DTSTART;VALUE=DATE:20190724
DTEND;VALUE=DATE:20190725
DTSTAMP:20260420T055417
CREATED:20190613T074627Z
LAST-MODIFIED:20190620T102212Z
UID:4252-1563926400-1564012799@www.bangorrotary.net
SUMMARY:No Rotary Meeting during July
DESCRIPTION:
URL:https://www.bangorrotary.net/event/no-rotary-meeting-during-july-2/
END:VEVENT
BEGIN:VEVENT
DTSTART;VALUE=DATE:20190717
DTEND;VALUE=DATE:20190718
DTSTAMP:20260420T055417
CREATED:20190613T074746Z
LAST-MODIFIED:20190620T102259Z
UID:4258-1563321600-1563407999@www.bangorrotary.net
SUMMARY:No Rotary Meeting during July
DESCRIPTION:
URL:https://www.bangorrotary.net/event/no-rotary-meeting-during-july-5/
END:VEVENT
BEGIN:VEVENT
DTSTART;VALUE=DATE:20190710
DTEND;VALUE=DATE:20190711
DTSTAMP:20260420T055417
CREATED:20190613T074651Z
LAST-MODIFIED:20190620T102335Z
UID:4254-1562716800-1562803199@www.bangorrotary.net
SUMMARY:No Rotary Meeting during July
DESCRIPTION:
URL:https://www.bangorrotary.net/event/no-rotary-meeting-during-july-3/
END:VEVENT
BEGIN:VEVENT
DTSTART;VALUE=DATE:20190703
DTEND;VALUE=DATE:20190704
DTSTAMP:20260420T055417
CREATED:20190613T074601Z
LAST-MODIFIED:20190620T102413Z
UID:4250-1562112000-1562198399@www.bangorrotary.net
SUMMARY:No Rotary Meeting during July
DESCRIPTION:
URL:https://www.bangorrotary.net/event/no-rotary-meeting-during-july/
END:VEVENT
BEGIN:VEVENT
DTSTART;TZID=Europe/London:20190626T190000
DTEND;TZID=Europe/London:20190626T220000
DTSTAMP:20260420T055417
CREATED:20190225T160027Z
LAST-MODIFIED:20190531T092403Z
UID:4100-1561575600-1561586400@www.bangorrotary.net
SUMMARY:President's Night
DESCRIPTION:This is the big one. The one you simply can’t afford to miss. The one that says ‘Yes\, it’s great to be a Rotarian’\n\nDrinks reception:  From 7pm\nDinner: Served 7.30pm\nMeal: Dressed salmon\, cold meats and salads\nEntertainment: In course of planning\nDress: Smart casual\nCost : Yet to be determined.but will be kept to a minimum
URL:https://www.bangorrotary.net/event/rotary-meeting-100/
LOCATION:Bangor Golf Club\, Broadway\, BANGOR\, Northern Ireland\, BT20 4RH\, United Kingdom
END:VEVENT
BEGIN:VEVENT
DTSTART;TZID=Europe/London:20190619T130000
DTEND;TZID=Europe/London:20190619T140000
DTSTAMP:20260420T055417
CREATED:20190225T160103Z
LAST-MODIFIED:20190531T105049Z
UID:4102-1560949200-1560952800@www.bangorrotary.net
SUMMARY:Rotary Meeting
DESCRIPTION:Lunch: Breaded Chicken Goujons with Chilli Dip\nSpeaker: Amber Law\, North Down & Ards Area Manager\, Danske Bank\, “The refurbished and expanded Bloomfield Branch of Danske” 
URL:https://www.bangorrotary.net/event/rotary-meeting-101/
LOCATION:Bangor Golf Club\, Broadway\, BANGOR\, Northern Ireland\, BT20 4RH\, United Kingdom
END:VEVENT
BEGIN:VEVENT
DTSTART;TZID=Europe/London:20190612T130000
DTEND;TZID=Europe/London:20190612T140000
DTSTAMP:20260420T055417
CREATED:20190225T155941Z
LAST-MODIFIED:20190531T105225Z
UID:4098-1560344400-1560348000@www.bangorrotary.net
SUMMARY:Rotary Meeting
DESCRIPTION:Lunch: Grilled Gammon and Parsley Sauce\nSpeaker: Johnny Andrews\, The Andrews Family of Comber (excluding the TITANIC connection)
URL:https://www.bangorrotary.net/event/rotary-meeting-99/
LOCATION:Bangor Golf Club\, Broadway\, BANGOR\, Northern Ireland\, BT20 4RH\, United Kingdom
END:VEVENT
BEGIN:VEVENT
DTSTART;TZID=Europe/London:20190605T130000
DTEND;TZID=Europe/London:20190605T140000
DTSTAMP:20260420T055417
CREATED:20190225T155902Z
LAST-MODIFIED:20190531T105145Z
UID:4096-1559739600-1559743200@www.bangorrotary.net
SUMMARY:Rotary Business Meeting
DESCRIPTION:Lunch: Roast Silverside with Yorkshire Pudding and Gravy
URL:https://www.bangorrotary.net/event/rotary-business-meeting-28/
LOCATION:Bangor Golf Club\, Broadway\, BANGOR\, Northern Ireland\, BT20 4RH\, United Kingdom
END:VEVENT
BEGIN:VEVENT
DTSTART;TZID=Europe/London:20190529T180000
DTEND;TZID=Europe/London:20190529T190000
DTSTAMP:20260420T055417
CREATED:20190225T155801Z
LAST-MODIFIED:20190524T090535Z
UID:4094-1559152800-1559156400@www.bangorrotary.net
SUMMARY:Rotary Meeting
DESCRIPTION:Meal and Speaker to be confirmed
URL:https://www.bangorrotary.net/event/rotary-meetingh/
LOCATION:Bangor Golf Club\, Broadway\, BANGOR\, Northern Ireland\, BT20 4RH\, United Kingdom
END:VEVENT
BEGIN:VEVENT
DTSTART;TZID=Europe/London:20190522T130000
DTEND;TZID=Europe/London:20190522T140000
DTSTAMP:20260420T055417
CREATED:20190225T155717Z
LAST-MODIFIED:20190505T205454Z
UID:4092-1558530000-1558533600@www.bangorrotary.net
SUMMARY:Rotary Meeting
DESCRIPTION:Tea Roast Pork\nPaul Mongomery of the Stroke Association will address us on its work – with our joint event at Sea Bangor Festival just a few days away;
URL:https://www.bangorrotary.net/event/rotary-evening-meeting-8/
LOCATION:Bangor Golf Club\, Broadway\, BANGOR\, Northern Ireland\, BT20 4RH\, United Kingdom
END:VEVENT
BEGIN:VEVENT
DTSTART;TZID=Europe/London:20190515T130000
DTEND;TZID=Europe/London:20190515T140000
DTSTAMP:20260420T055417
CREATED:20190225T155627Z
LAST-MODIFIED:20190505T205640Z
UID:4090-1557925200-1557928800@www.bangorrotary.net
SUMMARY:Rotary Meeting
DESCRIPTION:Charities Day with the distribution of cheques;\nLunch Grilled Cod & Parsley Sauce
URL:https://www.bangorrotary.net/event/rotary-meeting-98/
LOCATION:Bangor Golf Club\, Broadway\, BANGOR\, Northern Ireland\, BT20 4RH\, United Kingdom
END:VEVENT
BEGIN:VEVENT
DTSTART;TZID=Europe/London:20190508T130000
DTEND;TZID=Europe/London:20190508T140000
DTSTAMP:20260420T055417
CREATED:20190225T155544Z
LAST-MODIFIED:20190505T205600Z
UID:4088-1557320400-1557324000@www.bangorrotary.net
SUMMARY:Rotary Meeting
DESCRIPTION:Stephen Martin MBE (an Olympic Gold Medallist)\, ‘My Career in hockey’;#\nLunch Baked Irish Ham with White Wine & Spring Onion Sauce
URL:https://www.bangorrotary.net/event/rotary-meeting-97/
LOCATION:Bangor Golf Club\, Broadway\, BANGOR\, Northern Ireland\, BT20 4RH\, United Kingdom
END:VEVENT
BEGIN:VEVENT
DTSTART;TZID=Europe/London:20190501T130000
DTEND;TZID=Europe/London:20190501T140000
DTSTAMP:20260420T055417
CREATED:20190225T155453Z
LAST-MODIFIED:20190225T155453Z
UID:4086-1556715600-1556719200@www.bangorrotary.net
SUMMARY:Rotary Business Meeting
DESCRIPTION:Lunch Breaded Chicken Goujons with Chilli Dip
URL:https://www.bangorrotary.net/event/rotary-business-meeting-27/
LOCATION:Bangor Golf Club\, Broadway\, BANGOR\, Northern Ireland\, BT20 4RH\, United Kingdom
END:VEVENT
BEGIN:VEVENT
DTSTART;TZID=Europe/London:20190424T180000
DTEND;TZID=Europe/London:20190424T190000
DTSTAMP:20260420T055417
CREATED:20190225T155351Z
LAST-MODIFIED:20190313T133804Z
UID:4084-1556128800-1556132400@www.bangorrotary.net
SUMMARY:Easter break - no meeting today
DESCRIPTION:President Ian is allowing your stomach the opportunity to digest the chocolate and lamb shank you will have enjoyed over Easter. No meeting today.
URL:https://www.bangorrotary.net/event/rotary-evening-meeting-7/
LOCATION:Bangor Golf Club\, Broadway\, BANGOR\, Northern Ireland\, BT20 4RH\, United Kingdom
END:VEVENT
BEGIN:VEVENT
DTSTART;TZID=Europe/London:20190417T130000
DTEND;TZID=Europe/London:20190417T140000
DTSTAMP:20260420T055417
CREATED:20190225T155308Z
LAST-MODIFIED:20190313T133910Z
UID:4082-1555506000-1555509600@www.bangorrotary.net
SUMMARY:Rotary Meeting
DESCRIPTION:Speaker: Lieutenant-Colonel (retired) Andy Hart OBE (ex-Royal Irish) whose subject will be  ‘A unified military museum for Northern Ireland’\, a project on which he has been working for over a year.\nLunch Sausages\, Champ & Onion Gravy
URL:https://www.bangorrotary.net/event/rotary-meeting-96/
LOCATION:Bangor Golf Club\, Broadway\, BANGOR\, Northern Ireland\, BT20 4RH\, United Kingdom
END:VEVENT
BEGIN:VEVENT
DTSTART;TZID=Europe/London:20190410T130000
DTEND;TZID=Europe/London:20190410T140000
DTSTAMP:20260420T055417
CREATED:20190225T155227Z
LAST-MODIFIED:20190313T134007Z
UID:4080-1554901200-1554904800@www.bangorrotary.net
SUMMARY:SPECIAL EVENT: Annual General Meeting
DESCRIPTION:Today is our AGM\nLunch Pan Fried Chicken & Mushroom Sauce
URL:https://www.bangorrotary.net/event/rotary-meeting-95/
LOCATION:Bangor Golf Club\, Broadway\, BANGOR\, Northern Ireland\, BT20 4RH\, United Kingdom
END:VEVENT
BEGIN:VEVENT
DTSTART;TZID=Europe/London:20190403T130000
DTEND;TZID=Europe/London:20190403T140000
DTSTAMP:20260420T055417
CREATED:20190225T155149Z
LAST-MODIFIED:20190225T155149Z
UID:4078-1554296400-1554300000@www.bangorrotary.net
SUMMARY:Rotary Business Meeting
DESCRIPTION:Lunch Gammon & Peaches
URL:https://www.bangorrotary.net/event/rotary-business-meeting-26/
LOCATION:Bangor Golf Club\, Broadway\, BANGOR\, Northern Ireland\, BT20 4RH\, United Kingdom
END:VEVENT
BEGIN:VEVENT
DTSTART;TZID=Europe/London:20190327T180000
DTEND;TZID=Europe/London:20190327T190000
DTSTAMP:20260420T055417
CREATED:20190225T155058Z
LAST-MODIFIED:20190313T133635Z
UID:4076-1553709600-1553713200@www.bangorrotary.net
SUMMARY:SPECIAL EVENT: Theatre Outing
DESCRIPTION:No Rotary Meeting this evening as many of us are heading to see the Sound of Music
URL:https://www.bangorrotary.net/event/rotary-evening-meeting-6/
LOCATION:Bangor Golf Club\, Broadway\, BANGOR\, Northern Ireland\, BT20 4RH\, United Kingdom
END:VEVENT
END:VCALENDAR